Workbook

Sheet Arkusz kalkulacyjny
A2: Kalkulacja cenowa za sprzątanie pomieszczeń
A5: ARKUSZ KALKULACYJNY
A7: Lp. | B7: Powierzchnia sprzątania ogółem | D7: cena netto za sprzątanie 1m² powierzchni | E7: cena brutto za sprzątanie 1m² powierzchni | F7: wartość za 36 m-cy sprzątania netto [kol. 1 x 36 m-cy] | G7: VAT …....... kwota: | H7: cena za 36 m-cy sprzątania brutto [kol. 1 + kol. 4]
B8: 56322 | C8: m²
D9: 1 | E9: 2 | F9: 3 | G9: 4 | H9: 5
A10: 1. | B10: „BIAŁA”
B11: 10497.3 | C11: m²
A12: 2. | B12: „ZIELONA”
B13: 1696.92 | C13: m²
A14: 3. | B14: „SZARA”
B15: 9041.01 | C15: m²
A16: 4. | B16: „SZARA ADM-BIUROWA”
B17: 1554.72 | C17: m²
A18: 5. | B18: "TEREN ZEWNĘTRZNY-UTWARDZONY"
B19: 16153 | C19: m²
A20: 5. | B20: "TEREN ZEWNĘTRZNY-ZIELONY"
B21: 17379 | C21: m²
C22: RAZEM: | F22: 0 | G22: 0 | H22: 0
G36: .....................................................................
G37: ( podpis i pieczątka osoby uprawnionej )

Sheet Szczegółowy arkusz kalkula_2026
A2: Kalkulacja cenow za sprzątanie pomieszczeń i terenu za rok 2026 r. (od.01.11.2026 r)
A4: 1. Koszt sprzątania budynków:
A6: Lp. | B6: Wykaz stref | C6: Powierzchnia [m2] | D6: Wartośc ryczałtowa netto [zł] miesięcznego sprzątania | E6: Stawka podatku od towarów i usług VAT [%] | F6: Wartość ryczałtowa brutto [zł] mieisięcnego sprzątania placówki | G6: Wartość brutto [zł] sprzątania placówki w okresie 2 - mce w 2026 r. [kol. 6 x 2- mce]
A7: 1 | B7: 2 | C7: 3 | D7: 4 | E7: 5 | F7: 6 | G7: 7
A8: 1. | B8: Biała | C8: ='Arkusz kalkulacyjny'!B11 -> 10497.3
A9: 2. | B9: Zielona | C9: ='Arkusz kalkulacyjny'!B13 -> 1696.92
A10: 3. | B10: Szara | C10: ='Arkusz kalkulacyjny'!B15 -> 9041.01
A11: 4. | B11: Adm- biurowa | C11: ='Arkusz kalkulacyjny'!B17 -> 1554.72
B12: Razem: | C12: =SUM(C8:C11) -> 22789.95
A15: 2. Koszt sprzątania terenu:
A16: Lp. | B16: Tereny zewnętrzne | C16: Powierzchnia [m2] | D16: Wartośc ryczałtowa netto [zł] miesięcznego sprzątania terenu | E16: Stawka podatku od towarów i usług VAT [%] | F16: Wartość ryczałtowa brutto [zł] mieisięcnego sprzątania terenu | G16: Wartość brutto [zł] sprzątania placówki w okresie 2 - mce w 2026 r. [kol. 6 x 2- mce]
A17: 1 | B17: 2 | C17: 3 | D17: 4 | E17: 5 | F17: 6 | G17: 7
A18: 1. | B18: Teren utwardzony | C18: ='Arkusz kalkulacyjny'!B19 -> 16153
A19: 2. | B19: Teren zielony | C19: ='Arkusz kalkulacyjny'!B21 -> 17379
B20: Razem: | C20: =SUM(C18:C19) -> 33532
A23: Łączne wynagrodzenie za rok 2026 (od. 01.11.2026 r.) sprzątanie budynków + sprzątanie terenu zewnętrznego:
B25: netto: ….................................................PLN (słownie:…........................)
B26: stawka podatku VAT: …..........%
B27: brutto: ….................................................PLN (słownie:…........................)

Sheet Szczegółowy arkusz kalkula_2027
A2: Kalkulacja cenow za sprzątanie pomieszczeń i terenu za rok 2027 r.
A4: 1. Koszt sprzątania budynków:
A6: Lp. | B6: Wykaz stref | C6: Powierzchnia [m2] | D6: Wartośc ryczałtowa netto [zł] miesięcznego sprzątania | E6: Stawka podatku od towarów i usług VAT [%] | F6: Wartość ryczałtowa brutto [zł] miesięcnego sprzątania placówki | G6: Wartość brutto [zł] sprzątania placówki w 2027 r. [kol. 6 x 2- mce]
A7: 1 | B7: 2 | C7: 3 | D7: 4 | E7: 5 | F7: 6 | G7: 7
A8: 1. | B8: Biała | C8: ='Arkusz kalkulacyjny'!B11 -> 10497.3
A9: 2. | B9: Zielona | C9: ='Arkusz kalkulacyjny'!B13 -> 1696.92
A10: 3. | B10: Szara | C10: ='Arkusz kalkulacyjny'!B15 -> 9041.01
A11: 4. | B11: Adm- biurowa | C11: ='Arkusz kalkulacyjny'!B17 -> 1554.72
B12: Razem: | C12: =SUM(C8:C11) -> 22789.95
A14: 2. Koszt sprzątania terenu:
A15: Lp. | B15: Tereny zewnętrzne | C15: Powierzchnia [m2] | D15: Wartośc ryczałtowa netto [zł] miesięcznego sprzątania terenu | E15: Stawka podatku od towarów i usług VAT [%] | F15: Wartość ryczałtowa brutto [zł] miesięcnego sprzątania terenu | G15: Wartość brutto [zł] sprzątania placówki w 2027 r. [kol. 6 x 2- mce]
A16: 1 | B16: 2 | C16: 3 | D16: 4 | E16: 5 | F16: 6 | G16: 7
A17: 1 | B17: 2 | C17: 3 | D17: 4 | E17: 5 | F17: 6 | G17: 7
A18: 1. | B18: Teren utwardzony | C18: ='Arkusz kalkulacyjny'!B19 -> 16153
A19: 2. | B19: Teren zielony | C19: ='Arkusz kalkulacyjny'!B21 -> 17379
B20: Razem: | C20: =SUM(C18:C19) -> 33532
A23: Łączne wynagrodzenie za rok 2027 sprzątanie budynków + sprzątanie terenu zewnętrznego:
B25: netto: ….................................................PLN (słownie:…........................)
B26: stawka podatku VAT: …..........%
B27: brutto: ….................................................PLN (słownie:…........................)

Sheet Szczegółowy arkusz kalkula_2028
A2: Kalkulacja cenow za sprzątanie pomieszczeń i terenu za rok 2028 r.
A4: 1. Koszt sprzątania budynków:
A6: Lp. | B6: Wykaz stref | C6: Powierzchnia [m2] | D6: Wartośc ryczałtowa netto [zł] miesięcznego sprzątania | E6: Stawka podatku od towarów i usług VAT [%] | F6: Wartość ryczałtowa brutto [zł] mieisięcnego sprzątania placówki | G6: Wartość brutto [zł] sprzątania placówki w 2028 r. [kol. 6 x 2- mce]
A7: 1 | B7: 2 | C7: 3 | D7: 4 | E7: 5 | F7: 6 | G7: 7
A8: 1. | B8: Biała | C8: ='Arkusz kalkulacyjny'!B11 -> 10497.3
A9: 2. | B9: Zielona | C9: ='Arkusz kalkulacyjny'!B13 -> 1696.92
A10: 3. | B10: Szara | C10: ='Arkusz kalkulacyjny'!B15 -> 9041.01
A11: 4. | B11: Adm- biurowa | C11: ='Arkusz kalkulacyjny'!B17 -> 1554.72
B12: Razem: | C12: =SUM(C8:C11) -> 22789.95
A14: 2. Koszt sprzątania terenu:
A15: Lp. | B15: Tereny zewnętrzne | C15: Powierzchnia [m2] | D15: Wartośc ryczałtowa netto [zł] miesięcznego sprzątania terenu | E15: Stawka podatku od towarów i usług VAT [%] | F15: Wartość ryczałtowa brutto [zł] mieisięcnego sprzątania terenu | G15: Wartość brutto [zł] sprzątania placówki w 2028 r. [kol. 6 x 2- mce]
A16: 1 | B16: 2 | C16: 3 | D16: 4 | E16: 5 | F16: 6 | G16: 7
A17: 1. | B17: Teren utwardzony | C17: ='Arkusz kalkulacyjny'!B19 -> 16153
A18: 2. | B18: Teren zielony | C18: ='Arkusz kalkulacyjny'!B21 -> 17379
B19: Razem: | C19: =SUM(C17:C18) -> 33532
A22: Łączne wynagrodzenie za rok 2028 sprzątanie budynków + sprzątanie terenu zewnętrznego:
B24: netto: ….................................................PLN (słownie:…........................)
B25: stawka podatku VAT: …..........%
B26: brutto: ….................................................PLN (słownie:…........................)

Sheet Szczegółowy arkusz kalkula_2029
A2: Kalkulacja cenow za sprzątanie pomieszczeń i terenu za rok 2029 r. (do.31.10.2029r)
A4: 1. Koszt sprzątania budynków:
A6: Lp. | B6: Wykaz stref | C6: Powierzchnia [m2] | D6: Wartośc ryczałtowa netto [zł] miesięcznego sprzątania | E6: Stawka podatku od towarów i usług VAT [%] | F6: Wartość ryczałtowa brutto [zł] mieisięcnego sprzątania placówki | G6: Wartość brutto [zł] sprzątania placówki w okresie 10 - mcy w 2029 r. [kol. 6 x 10- mcy]
A7: 1 | B7: 2 | C7: 3 | D7: 4 | E7: 5 | F7: 6 | G7: 7
A8: 1. | B8: Biała | C8: ='Arkusz kalkulacyjny'!B11 -> 10497.3
A9: 2. | B9: Zielona | C9: ='Arkusz kalkulacyjny'!B13 -> 1696.92
A10: 3. | B10: Szara | C10: ='Arkusz kalkulacyjny'!B15 -> 9041.01
A11: 4. | B11: Adm- biurowa | C11: ='Arkusz kalkulacyjny'!B17 -> 1554.72
B12: Razem: | C12: =SUM(C8:C11) -> 22789.95
A14: 2. Koszt sprzątania terenu:
A15: Lp. | B15: Tereny zewnętrzne | C15: Powierzchnia [m2] | D15: Wartośc ryczałtowa netto [zł] miesięcznego sprzątania terenu | E15: Stawka podatku od towarów i usług VAT [%] | F15: Wartość ryczałtowa brutto [zł] mieisięcnego sprzątania terenu | G15: Wartość brutto [zł] sprzątania placówki w okresie 10 - mcy w 2029 r. [kol. 6 x 2- mce]
A16: 1 | B16: 2 | C16: 3 | D16: 4 | E16: 5 | F16: 6 | G16: 7
A17: 1. | B17: Teren utwardzony | C17: ='Arkusz kalkulacyjny'!B19 -> 16153
A18: 2. | B18: Teren zielony | C18: ='Arkusz kalkulacyjny'!B21 -> 17379
B19: Razem: | C19: =SUM(C17:C18) -> 33532
A22: Łączne wynagrodzenie za rok 2029 (do. 31.10.2029 r.) sprzątanie budynków + sprzątanie terenu zewnętrznego:
B24: netto: ….................................................PLN (słownie:…........................)
B25: stawka podatku VAT: …..........%
B26: brutto: ….................................................PLN (słownie:…........................)

Sheet Laczna wartość
A2: Łączna wartość za cały przedmiot umowy:
A4: 1. | B4: Wartośc brutto sprzątania za 36 m-cy: ….................................................PLN (słownie:…........................)
A5: 2. | B5: Wartośc brutto sprzątania terenu zewnętrznego za 36 m-cy: ….................................................PLN (słownie:…........................)
A6: 3. | B6: Łączna wartość zamówienia brutto (pkt.1 +pkt.2): ….................................................PLN (słownie:…........................)
