Workbook

Sheet Arkusz kalkulacyjny
A1: Zaktualizowany załącznik nr 8 – ARKUSZ KALKULACYJNY (zbiorczy)
A2: Kalkulacja cenowa za sprzątanie pomieszczeń i terenu zewnętrznego – okres 36 m-cy (01.11.2026 r. – 31.10.2029 r.)
A3: Wartości zbiorcze wyliczają się automatycznie na podstawie Załącznika nr 8.1 (arkusze roczne). Wykonawca uzupełnia dane wyłącznie w Załączniku nr 8.1.
A5: Lp. | B5: Strefa | C5: Powierzchnia [m²] | D5: Cena jedn. netto za 1 m² / m-c [zł] (informacyjnie) | E5: Wartość netto miesięczna [zł] | F5: Stawka VAT [%] | G5: Wartość netto za 36 m-cy [zł] | H5: Kwota VAT za 36 m-cy [zł] | I5: Wartość brutto za 36 m-cy [zł]
A6: 1 | B6: 2 | C6: 3 | D6: 4 | E6: 5 | F6: 6 | G6: 7 | H6: 8 | I6: 9
A7: 1. | B7: Biała | C7: 10497.3 | D7: =IFERROR(G7/(C7*36),0) -> 0 | E7: =IFERROR(G7/36,0) -> 0 | F7: =IFERROR(H7/G7,0) -> 0 | G7: ='8.1_2026'!I7+'8.1_2027'!I7+'8.1_2028'!I7+'8.1_2029'!I7 -> 0 | H7: =I7-G7 -> 0 | I7: ='8.1_2026'!J7+'8.1_2027'!J7+'8.1_2028'!J7+'8.1_2029'!J7 -> 0
A8: 2. | B8: Zielona | C8: 1696.92 | D8: =IFERROR(G8/(C8*36),0) -> 0 | E8: =IFERROR(G8/36,0) -> 0 | F8: =IFERROR(H8/G8,0) -> 0 | G8: ='8.1_2026'!I8+'8.1_2027'!I8+'8.1_2028'!I8+'8.1_2029'!I8 -> 0 | H8: =I8-G8 -> 0 | I8: ='8.1_2026'!J8+'8.1_2027'!J8+'8.1_2028'!J8+'8.1_2029'!J8 -> 0
A9: 3. | B9: Szara | C9: 9041.01 | D9: =IFERROR(G9/(C9*36),0) -> 0 | E9: =IFERROR(G9/36,0) -> 0 | F9: =IFERROR(H9/G9,0) -> 0 | G9: ='8.1_2026'!I9+'8.1_2027'!I9+'8.1_2028'!I9+'8.1_2029'!I9 -> 0 | H9: =I9-G9 -> 0 | I9: ='8.1_2026'!J9+'8.1_2027'!J9+'8.1_2028'!J9+'8.1_2029'!J9 -> 0
A10: 4. | B10: Adm.-biurowa | C10: 1554.72 | D10: =IFERROR(G10/(C10*36),0) -> 0 | E10: =IFERROR(G10/36,0) -> 0 | F10: =IFERROR(H10/G10,0) -> 0 | G10: ='8.1_2026'!I10+'8.1_2027'!I10+'8.1_2028'!I10+'8.1_2029'!I10 -> 0 | H10: =I10-G10 -> 0 | I10: ='8.1_2026'!J10+'8.1_2027'!J10+'8.1_2028'!J10+'8.1_2029'!J10 -> 0
A11: 5. | B11: Teren utwardzony | C11: 16153 | D11: =IFERROR(G11/(C11*36),0) -> 0 | E11: =IFERROR(G11/36,0) -> 0 | F11: =IFERROR(H11/G11,0) -> 0 | G11: ='8.1_2026'!I17+'8.1_2027'!I17+'8.1_2028'!I17+'8.1_2029'!I17 -> 0 | H11: =I11-G11 -> 0 | I11: ='8.1_2026'!J17+'8.1_2027'!J17+'8.1_2028'!J17+'8.1_2029'!J17 -> 0
A12: 6. | B12: Teren zielony | C12: 17379 | D12: =IFERROR(G12/(C12*36),0) -> 0 | E12: =IFERROR(G12/36,0) -> 0 | F12: =IFERROR(H12/G12,0) -> 0 | G12: ='8.1_2026'!I18+'8.1_2027'!I18+'8.1_2028'!I18+'8.1_2029'!I18 -> 0 | H12: =I12-G12 -> 0 | I12: ='8.1_2026'!J18+'8.1_2027'!J18+'8.1_2028'!J18+'8.1_2029'!J18 -> 0
B13: RAZEM sprzątanie budynków: | C13: =SUM(C7:C10) -> 22789.95 | E13: =SUM(E7:E10) -> 0 | G13: =SUM(G7:G10) -> 0 | H13: =SUM(H7:H10) -> 0 | I13: =SUM(I7:I10) -> 0
B14: RAZEM sprzątanie terenu zewnętrznego: | C14: =SUM(C11:C12) -> 33532 | E14: =SUM(E11:E12) -> 0 | G14: =SUM(G11:G12) -> 0 | H14: =SUM(H11:H12) -> 0 | I14: =SUM(I11:I12) -> 0
B15: RAZEM OGÓŁEM (budynki + teren): | G15: =G13+G14 -> 0 | H15: =H13+H14 -> 0 | I15: =I13+I14 -> 0
B17: Cena oferty (wartość brutto za 36 m-cy) = komórka I15
G19: .....................................................................
G20: ( podpis i pieczątka osoby uprawnionej )

Sheet 8.1_2026
A1: Zaktualizowany załącznik nr 8.1 – SZCZEGÓŁOWY ARKUSZ KALKULACYJNY – rok 2026 (od 01.11.2026 r.)
A2: Liczba miesięcy świadczenia usługi w tym okresie: 2
A4: 1. Koszt sprzątania budynków:
A5: Lp. | B5: Strefa | C5: Powierzchnia [m²] | D5: Cena jedn. netto za 1 m² / m-c [zł] | E5: Wartość netto miesięczna [zł] | F5: Stawka VAT [%] | G5: Wartość brutto miesięczna [zł] | H5: Liczba m-cy | I5: Wartość netto za okres [zł] | J5: Wartość brutto za okres [zł]
A6: 1 | B6: 2 | C6: 3 | D6: 4 | E6: 5 | F6: 6 | G6: 7 | H6: 8 | I6: 9 | J6: 10
A7: 1. | B7: Biała | C7: ='Arkusz kalkulacyjny'!C7 -> 10497.3 | E7: =C7*D7 -> 0 | G7: =E7*(1+F7) -> 0 | H7: 2 | I7: =E7*H7 -> 0 | J7: =G7*H7 -> 0
A8: 2. | B8: Zielona | C8: ='Arkusz kalkulacyjny'!C8 -> 1696.92 | E8: =C8*D8 -> 0 | G8: =E8*(1+F8) -> 0 | H8: 2 | I8: =E8*H8 -> 0 | J8: =G8*H8 -> 0
A9: 3. | B9: Szara | C9: ='Arkusz kalkulacyjny'!C9 -> 9041.01 | E9: =C9*D9 -> 0 | G9: =E9*(1+F9) -> 0 | H9: 2 | I9: =E9*H9 -> 0 | J9: =G9*H9 -> 0
A10: 4. | B10: Adm.-biurowa | C10: ='Arkusz kalkulacyjny'!C10 -> 1554.72 | E10: =C10*D10 -> 0 | G10: =E10*(1+F10) -> 0 | H10: 2 | I10: =E10*H10 -> 0 | J10: =G10*H10 -> 0
B11: Razem: | C11: =SUM(C7:C10) -> 22789.95 | E11: =SUM(E7:E10) -> 0 | G11: =SUM(G7:G10) -> 0 | I11: =SUM(I7:I10) -> 0 | J11: =SUM(J7:J10) -> 0
A14: 2. Koszt sprzątania terenu zewnętrznego:
A15: Lp. | B15: Strefa | C15: Powierzchnia [m²] | D15: Cena jedn. netto za 1 m² / m-c [zł] | E15: Wartość netto miesięczna [zł] | F15: Stawka VAT [%] | G15: Wartość brutto miesięczna [zł] | H15: Liczba m-cy | I15: Wartość netto za okres [zł] | J15: Wartość brutto za okres [zł]
A16: 1 | B16: 2 | C16: 3 | D16: 4 | E16: 5 | F16: 6 | G16: 7 | H16: 8 | I16: 9 | J16: 10
A17: 5. | B17: Teren utwardzony | C17: ='Arkusz kalkulacyjny'!C11 -> 16153 | E17: =C17*D17 -> 0 | G17: =E17*(1+F17) -> 0 | H17: 2 | I17: =E17*H17 -> 0 | J17: =G17*H17 -> 0
A18: 6. | B18: Teren zielony | C18: ='Arkusz kalkulacyjny'!C12 -> 17379 | E18: =C18*D18 -> 0 | G18: =E18*(1+F18) -> 0 | H18: 2 | I18: =E18*H18 -> 0 | J18: =G18*H18 -> 0
B19: Razem: | C19: =SUM(C17:C18) -> 33532 | E19: =SUM(E17:E18) -> 0 | G19: =SUM(G17:G18) -> 0 | I19: =SUM(I17:I18) -> 0 | J19: =SUM(J17:J18) -> 0
A22: Podsumowanie – rok 2026 (od 01.11.2026 r.):
B23: Wartość netto za okres [zł]: | I23: =I11+I19 -> 0
B24: Kwota VAT za okres [zł]: | I24: =(J11+J19)-(I11+I19) -> 0
B25: Wartość brutto za okres [zł]: | I25: =J11+J19 -> 0

Sheet 8.1_2027
A1: Zaktualizowany załącznik nr 8.1 – SZCZEGÓŁOWY ARKUSZ KALKULACYJNY – rok 2027
A2: Liczba miesięcy świadczenia usługi w tym okresie: 12
A4: 1. Koszt sprzątania budynków:
A5: Lp. | B5: Strefa | C5: Powierzchnia [m²] | D5: Cena jedn. netto za 1 m² / m-c [zł] | E5: Wartość netto miesięczna [zł] | F5: Stawka VAT [%] | G5: Wartość brutto miesięczna [zł] | H5: Liczba m-cy | I5: Wartość netto za okres [zł] | J5: Wartość brutto za okres [zł]
A6: 1 | B6: 2 | C6: 3 | D6: 4 | E6: 5 | F6: 6 | G6: 7 | H6: 8 | I6: 9 | J6: 10
A7: 1. | B7: Biała | C7: ='Arkusz kalkulacyjny'!C7 -> 10497.3 | E7: =C7*D7 -> 0 | G7: =E7*(1+F7) -> 0 | H7: 12 | I7: =E7*H7 -> 0 | J7: =G7*H7 -> 0
A8: 2. | B8: Zielona | C8: ='Arkusz kalkulacyjny'!C8 -> 1696.92 | E8: =C8*D8 -> 0 | G8: =E8*(1+F8) -> 0 | H8: 12 | I8: =E8*H8 -> 0 | J8: =G8*H8 -> 0
A9: 3. | B9: Szara | C9: ='Arkusz kalkulacyjny'!C9 -> 9041.01 | E9: =C9*D9 -> 0 | G9: =E9*(1+F9) -> 0 | H9: 12 | I9: =E9*H9 -> 0 | J9: =G9*H9 -> 0
A10: 4. | B10: Adm.-biurowa | C10: ='Arkusz kalkulacyjny'!C10 -> 1554.72 | E10: =C10*D10 -> 0 | G10: =E10*(1+F10) -> 0 | H10: 12 | I10: =E10*H10 -> 0 | J10: =G10*H10 -> 0
B11: Razem: | C11: =SUM(C7:C10) -> 22789.95 | E11: =SUM(E7:E10) -> 0 | G11: =SUM(G7:G10) -> 0 | I11: =SUM(I7:I10) -> 0 | J11: =SUM(J7:J10) -> 0
A14: 2. Koszt sprzątania terenu zewnętrznego:
A15: Lp. | B15: Strefa | C15: Powierzchnia [m²] | D15: Cena jedn. netto za 1 m² / m-c [zł] | E15: Wartość netto miesięczna [zł] | F15: Stawka VAT [%] | G15: Wartość brutto miesięczna [zł] | H15: Liczba m-cy | I15: Wartość netto za okres [zł] | J15: Wartość brutto za okres [zł]
A16: 1 | B16: 2 | C16: 3 | D16: 4 | E16: 5 | F16: 6 | G16: 7 | H16: 8 | I16: 9 | J16: 10
A17: 5. | B17: Teren utwardzony | C17: ='Arkusz kalkulacyjny'!C11 -> 16153 | E17: =C17*D17 -> 0 | G17: =E17*(1+F17) -> 0 | H17: 12 | I17: =E17*H17 -> 0 | J17: =G17*H17 -> 0
A18: 6. | B18: Teren zielony | C18: ='Arkusz kalkulacyjny'!C12 -> 17379 | E18: =C18*D18 -> 0 | G18: =E18*(1+F18) -> 0 | H18: 12 | I18: =E18*H18 -> 0 | J18: =G18*H18 -> 0
B19: Razem: | C19: =SUM(C17:C18) -> 33532 | E19: =SUM(E17:E18) -> 0 | G19: =SUM(G17:G18) -> 0 | I19: =SUM(I17:I18) -> 0 | J19: =SUM(J17:J18) -> 0
A22: Podsumowanie – rok 2027:
B23: Wartość netto za okres [zł]: | I23: =I11+I19 -> 0
B24: Kwota VAT za okres [zł]: | I24: =(J11+J19)-(I11+I19) -> 0
B25: Wartość brutto za okres [zł]: | I25: =J11+J19 -> 0

Sheet 8.1_2028
A1: Zaktualizowany załącznik nr 8.1 – SZCZEGÓŁOWY ARKUSZ KALKULACYJNY – rok 2028
A2: Liczba miesięcy świadczenia usługi w tym okresie: 12
A4: 1. Koszt sprzątania budynków:
A5: Lp. | B5: Strefa | C5: Powierzchnia [m²] | D5: Cena jedn. netto za 1 m² / m-c [zł] | E5: Wartość netto miesięczna [zł] | F5: Stawka VAT [%] | G5: Wartość brutto miesięczna [zł] | H5: Liczba m-cy | I5: Wartość netto za okres [zł] | J5: Wartość brutto za okres [zł]
A6: 1 | B6: 2 | C6: 3 | D6: 4 | E6: 5 | F6: 6 | G6: 7 | H6: 8 | I6: 9 | J6: 10
A7: 1. | B7: Biała | C7: ='Arkusz kalkulacyjny'!C7 -> 10497.3 | E7: =C7*D7 -> 0 | G7: =E7*(1+F7) -> 0 | H7: 12 | I7: =E7*H7 -> 0 | J7: =G7*H7 -> 0
A8: 2. | B8: Zielona | C8: ='Arkusz kalkulacyjny'!C8 -> 1696.92 | E8: =C8*D8 -> 0 | G8: =E8*(1+F8) -> 0 | H8: 12 | I8: =E8*H8 -> 0 | J8: =G8*H8 -> 0
A9: 3. | B9: Szara | C9: ='Arkusz kalkulacyjny'!C9 -> 9041.01 | E9: =C9*D9 -> 0 | G9: =E9*(1+F9) -> 0 | H9: 12 | I9: =E9*H9 -> 0 | J9: =G9*H9 -> 0
A10: 4. | B10: Adm.-biurowa | C10: ='Arkusz kalkulacyjny'!C10 -> 1554.72 | E10: =C10*D10 -> 0 | G10: =E10*(1+F10) -> 0 | H10: 12 | I10: =E10*H10 -> 0 | J10: =G10*H10 -> 0
B11: Razem: | C11: =SUM(C7:C10) -> 22789.95 | E11: =SUM(E7:E10) -> 0 | G11: =SUM(G7:G10) -> 0 | I11: =SUM(I7:I10) -> 0 | J11: =SUM(J7:J10) -> 0
A14: 2. Koszt sprzątania terenu zewnętrznego:
A15: Lp. | B15: Strefa | C15: Powierzchnia [m²] | D15: Cena jedn. netto za 1 m² / m-c [zł] | E15: Wartość netto miesięczna [zł] | F15: Stawka VAT [%] | G15: Wartość brutto miesięczna [zł] | H15: Liczba m-cy | I15: Wartość netto za okres [zł] | J15: Wartość brutto za okres [zł]
A16: 1 | B16: 2 | C16: 3 | D16: 4 | E16: 5 | F16: 6 | G16: 7 | H16: 8 | I16: 9 | J16: 10
A17: 5. | B17: Teren utwardzony | C17: ='Arkusz kalkulacyjny'!C11 -> 16153 | E17: =C17*D17 -> 0 | G17: =E17*(1+F17) -> 0 | H17: 12 | I17: =E17*H17 -> 0 | J17: =G17*H17 -> 0
A18: 6. | B18: Teren zielony | C18: ='Arkusz kalkulacyjny'!C12 -> 17379 | E18: =C18*D18 -> 0 | G18: =E18*(1+F18) -> 0 | H18: 12 | I18: =E18*H18 -> 0 | J18: =G18*H18 -> 0
B19: Razem: | C19: =SUM(C17:C18) -> 33532 | E19: =SUM(E17:E18) -> 0 | G19: =SUM(G17:G18) -> 0 | I19: =SUM(I17:I18) -> 0 | J19: =SUM(J17:J18) -> 0
A22: Podsumowanie – rok 2028:
B23: Wartość netto za okres [zł]: | I23: =I11+I19 -> 0
B24: Kwota VAT za okres [zł]: | I24: =(J11+J19)-(I11+I19) -> 0
B25: Wartość brutto za okres [zł]: | I25: =J11+J19 -> 0

Sheet 8.1_2029
A1: Zaktualizowany załącznik nr 8.1 – SZCZEGÓŁOWY ARKUSZ KALKULACYJNY – rok 2029 (do 31.10.2029 r.)
A2: Liczba miesięcy świadczenia usługi w tym okresie: 10
A4: 1. Koszt sprzątania budynków:
A5: Lp. | B5: Strefa | C5: Powierzchnia [m²] | D5: Cena jedn. netto za 1 m² / m-c [zł] | E5: Wartość netto miesięczna [zł] | F5: Stawka VAT [%] | G5: Wartość brutto miesięczna [zł] | H5: Liczba m-cy | I5: Wartość netto za okres [zł] | J5: Wartość brutto za okres [zł]
A6: 1 | B6: 2 | C6: 3 | D6: 4 | E6: 5 | F6: 6 | G6: 7 | H6: 8 | I6: 9 | J6: 10
A7: 1. | B7: Biała | C7: ='Arkusz kalkulacyjny'!C7 -> 10497.3 | E7: =C7*D7 -> 0 | G7: =E7*(1+F7) -> 0 | H7: 10 | I7: =E7*H7 -> 0 | J7: =G7*H7 -> 0
A8: 2. | B8: Zielona | C8: ='Arkusz kalkulacyjny'!C8 -> 1696.92 | E8: =C8*D8 -> 0 | G8: =E8*(1+F8) -> 0 | H8: 10 | I8: =E8*H8 -> 0 | J8: =G8*H8 -> 0
A9: 3. | B9: Szara | C9: ='Arkusz kalkulacyjny'!C9 -> 9041.01 | E9: =C9*D9 -> 0 | G9: =E9*(1+F9) -> 0 | H9: 10 | I9: =E9*H9 -> 0 | J9: =G9*H9 -> 0
A10: 4. | B10: Adm.-biurowa | C10: ='Arkusz kalkulacyjny'!C10 -> 1554.72 | E10: =C10*D10 -> 0 | G10: =E10*(1+F10) -> 0 | H10: 10 | I10: =E10*H10 -> 0 | J10: =G10*H10 -> 0
B11: Razem: | C11: =SUM(C7:C10) -> 22789.95 | E11: =SUM(E7:E10) -> 0 | G11: =SUM(G7:G10) -> 0 | I11: =SUM(I7:I10) -> 0 | J11: =SUM(J7:J10) -> 0
A14: 2. Koszt sprzątania terenu zewnętrznego:
A15: Lp. | B15: Strefa | C15: Powierzchnia [m²] | D15: Cena jedn. netto za 1 m² / m-c [zł] | E15: Wartość netto miesięczna [zł] | F15: Stawka VAT [%] | G15: Wartość brutto miesięczna [zł] | H15: Liczba m-cy | I15: Wartość netto za okres [zł] | J15: Wartość brutto za okres [zł]
A16: 1 | B16: 2 | C16: 3 | D16: 4 | E16: 5 | F16: 6 | G16: 7 | H16: 8 | I16: 9 | J16: 10
A17: 5. | B17: Teren utwardzony | C17: ='Arkusz kalkulacyjny'!C11 -> 16153 | E17: =C17*D17 -> 0 | G17: =E17*(1+F17) -> 0 | H17: 10 | I17: =E17*H17 -> 0 | J17: =G17*H17 -> 0
A18: 6. | B18: Teren zielony | C18: ='Arkusz kalkulacyjny'!C12 -> 17379 | E18: =C18*D18 -> 0 | G18: =E18*(1+F18) -> 0 | H18: 10 | I18: =E18*H18 -> 0 | J18: =G18*H18 -> 0
B19: Razem: | C19: =SUM(C17:C18) -> 33532 | E19: =SUM(E17:E18) -> 0 | G19: =SUM(G17:G18) -> 0 | I19: =SUM(I17:I18) -> 0 | J19: =SUM(J17:J18) -> 0
A22: Podsumowanie – rok 2029 (do 31.10.2029 r.):
B23: Wartość netto za okres [zł]: | I23: =I11+I19 -> 0
B24: Kwota VAT za okres [zł]: | I24: =(J11+J19)-(I11+I19) -> 0
B25: Wartość brutto za okres [zł]: | I25: =J11+J19 -> 0

Sheet Łączna wartość
A1: ŁĄCZNA WARTOŚĆ ZA CAŁY PRZEDMIOT ZAMÓWIENIA (36 m-cy)
A3: 1. | B3: Wartość brutto sprzątania budynków za 36 m-cy [zł]: | D3: ='Arkusz kalkulacyjny'!I13 -> 0
A5: 2. | B5: Wartość brutto sprzątania terenu zewnętrznego za 36 m-cy [zł]: | D5: ='Arkusz kalkulacyjny'!I14 -> 0
A7: 3. | B7: Łączna wartość zamówienia brutto (poz. 1 + poz. 2) [zł]: | D7: ='Arkusz kalkulacyjny'!I15 -> 0
B10: Uwaga: wartości wyliczają się automatycznie z Załącznika nr 8 i 8.1.

Sheet Instrukcja
A1: INSTRUKCJA WYPEŁNIANIA
A3: Kolory komórek:
A4: – ŻÓŁTE (czcionka niebieska) | B4: pola do wypełnienia przez Wykonawcę (Załącznik 8.1): cena jedn. netto za 1 m²/m-c oraz stawka VAT
A5: – SZARE | B5: dane stałe podane przez Zamawiającego (powierzchnie, liczba m-cy) – nie edytować
A6: – pozostałe | B6: wyliczają się automatycznie formułami – nie edytować
A8: Zasada kalkulacji (jednolita we wszystkich arkuszach):
A9: Wartość netto miesięczna | B9: powierzchnia [m²] × cena jedn. netto za 1 m²/m-c
A10: Wartość brutto miesięczna | B10: wartość netto miesięczna × (1 + VAT)
A11: Wartość za okres (rok) | B11: wartość miesięczna × liczba m-cy w danym roku (2 / 12 / 12 / 10 = 36)
A12: Arkusz zbiorczy (zał. 8) | B12: sumuje wartości ze wszystkich 4 arkuszy rocznych – bez ręcznego przepisywania
