Workbook

Sheet CAŁOŚĆ
A2: OBIEKT | B2: BG -1 | C2: BG 0 | D2: BG 1 | E2: BG 2 | F2: BG 3 | G2: BG 4 | H2: BG 5 | I2: BKS -1 | J2: BKS 0 | K2: BKS 1 | L2: BKS 2 | M2: BKS 3 | N2: Ks. Siemaszki 17b | O2: Pielęgniarek 6 | P2: Pielęgniarek 7 | Q2: Ks. Siemaszki 13a,13b,15, | R2: Ks. Siemaszki 16 | S2: Ks. Siemaszki 18 | T2: Portiernia - parking | U2: Budynek szkoły rodzenia | V2: Budynek na zapleczu szpitala | W2: Budynek archiwum | X2: Kontenery | Y2: Rehabilitacja | Z2: Hotel | AA2: Pozostałe | AB2: RAZEM
A3: Strefa | B3: Powierzchnia | C3: Powierzchnia | D3: Powierzchnia | E3: Powierzchnia | F3: Powierzchnia | G3: Powierzchnia | H3: Powierzchnia | I3: Powierzchnia | J3: Powierzchnia | K3: Powierzchnia | L3: Powierzchnia | M3: Powierzchnia | N3: Powierzchnia | O3: Powierzchnia | P3: Powierzchnia | Q3: Powierzchnia | R3: Powierzchnia | S3: Powierzchnia | T3: Powierzchnia | U3: Powierzchnia | V3: Powierzchnia | W3: Powierzchnia | X3: Powierzchnia | Y3: Powierzchnia | Z3: Powierzchnia | AA3: Powierzchnia | AB3: Powierzchnia
A4: Biała | B4: ='BG -1'!I106 -> 282.94 | C4: ='BG 0'!I148 -> 495.24 | D4: ='BG 1'!I129 -> 1343.95 | E4: ='BG 2'!I120 -> 1104.13 | F4: ='BG 3'!I114 -> 1035.77 | G4: ='BG 4'!I113 -> 1249.93 | H4: ='BG 5'!I67 -> 0 | I4: ='BKS -1'!I77 -> 911.4 | J4: ='BKS 0'!I74 -> 637.93 | K4: ='BKS 1'!I74 -> 961.82 | L4: ='BKS 2'!I67 -> 927.72 | M4: ='BKS 3'!I86 -> 564.25 | N4: ='Ks. Siemaszki 17b'!I69 -> 568.2 | O4: ='Pielęgniarek 6'!I14 -> 0 | P4: ='Pielęgniarek 7'!I6 -> 0 | Q4: ='Ks. Siemaszki 13a, 13b, 15,'!I7 -> 0 | R4: ='Ks. Siemaszki 16'!I5 -> 0 | S4: ='Ks. Siemaszki 18'!I5 -> 0 | T4: ='Portiernia - parking'!I5 -> 0 | U4: ='Budynek szkoły rodzenia'!I7 -> 0 | V4: ='Budynek na zapleczu szpitala'!I7 -> 0 | W4: ='Budynek archiwum'!I33 -> 0 | X4: =Konternery!I8 -> 117 | Y4: =Rehabilitacja!I25 -> 263.14 | Z4: ='Hotel '!I161 -> 33.9 | AA4: =Pozostałe!I10 -> 0 | AB4: =SUM(B4:AA4) -> 10497.32
A5: Zielona | B5: ='BG -1'!I107 -> 0 | C5: ='BG 0'!I149 -> 0 | D5: ='BG 1'!I130 -> 322.02 | E5: ='BG 2'!I121 -> 50.81 | F5: ='BG 3'!I115 -> 305.38 | G5: ='BG 4'!I114 -> 0 | H5: ='BG 5'!I68 -> 980.51 | I5: ='BKS -1'!I78 -> 0 | J5: ='BKS 0'!I75 -> 0 | K5: ='BKS 1'!I75 -> 0 | L5: ='BKS 2'!I68 -> 0 | M5: ='BKS 3'!I87 -> 0 | N5: ='Ks. Siemaszki 17b'!I70 -> 38.2 | O5: ='Pielęgniarek 6'!I15 -> 0 | P5: ='Pielęgniarek 7'!I7 -> 0 | Q5: ='Ks. Siemaszki 13a, 13b, 15,'!I8 -> 0 | R5: ='Ks. Siemaszki 16'!I6 -> 0 | S5: ='Ks. Siemaszki 18'!I6 -> 0 | T5: ='Portiernia - parking'!I6 -> 0 | U5: ='Budynek szkoły rodzenia'!I8 -> 0 | V5: ='Budynek na zapleczu szpitala'!I8 -> 0 | W5: ='Budynek archiwum'!I34 -> 0 | X5: =Konternery!I9 -> 0 | Y5: =Rehabilitacja!I26 -> 0 | Z5: ='Hotel '!I162 -> 0 | AA5: =Pozostałe!I11 -> 0 | AB5: =SUM(B5:AA5) -> 1696.92
A6: Szara | B6: ='BG -1'!I108 -> 1012.43 | C6: ='BG 0'!I150 -> 1320.39 | D6: ='BG 1'!I131 -> 99.22 | E6: ='BG 2'!I122 -> 495.67 | F6: ='BG 3'!I116 -> 318.09 | G6: ='BG 4'!I115 -> 181.4 | H6: ='BG 5'!I69 -> 74.86 | I6: ='BKS -1'!I79 -> 325.05 | J6: ='BKS 0'!I76 -> 430.94 | K6: ='BKS 1'!I76 -> 137.24 | L6: ='BKS 2'!I69 -> 156.25 | M6: ='BKS 3'!I88 -> 306.37 | N6: ='Ks. Siemaszki 17b'!I71 -> 558 | O6: ='Pielęgniarek 6'!I16 -> 138.73 | P6: ='Pielęgniarek 7'!I8 -> 67 | Q6: ='Ks. Siemaszki 13a, 13b, 15,'!I9 -> 164.5 | R6: ='Ks. Siemaszki 16'!I7 -> 24.32 | S6: ='Ks. Siemaszki 18'!I7 -> 65.67 | T6: ='Portiernia - parking'!I7 -> 11 | U6: ='Budynek szkoły rodzenia'!I9 -> 151.5 | V6: ='Budynek na zapleczu szpitala'!I9 -> 117 | W6: ='Budynek archiwum'!I35 -> 856.31 | X6: =Konternery!I10 -> 0 | Y6: =Rehabilitacja!I27 -> 0 | Z6: ='Hotel '!I163 -> 875.58 | AA6: =Pozostałe!I12 -> 1544.62 | AB6: =SUM(B6:AA6) -> 9432.14
A7: Szara biurowa | B7: ='BG -1'!I109 -> 7.52 | C7: ='BG 0'!I151 -> 263.01 | D7: ='BG 1'!I132 -> 0 | E7: ='BG 2'!I123 -> 41.48 | F7: ='BG 3'!I117 -> 14.76 | G7: ='BG 4'!I116 -> 97.26 | H7: ='BG 5'!I70 -> 0 | I7: ='BKS -1'!I80 -> 15.22 | J7: ='BKS 0'!I77 -> 228.61 | K7: ='BKS 1'!I77 -> 36.48 | L7: ='BKS 2'!I70 -> 71.27 | M7: ='BKS 3'!I89 -> 216.05 | N7: ='Ks. Siemaszki 17b'!I72 -> 104.5 | O7: ='Pielęgniarek 6'!I17 -> 0 | P7: ='Pielęgniarek 7'!I9 -> 0 | Q7: ='Ks. Siemaszki 13a, 13b, 15,'!I10 -> 0 | R7: ='Ks. Siemaszki 16'!I8 -> 0 | S7: ='Ks. Siemaszki 18'!I8 -> 0 | T7: ='Portiernia - parking'!I8 -> 0 | U7: ='Budynek szkoły rodzenia'!I10 -> 0 | V7: ='Budynek na zapleczu szpitala'!I10 -> 0 | W7: ='Budynek archiwum'!I36 -> 19.52 | X7: =Konternery!I11 -> 0 | Y7: =Rehabilitacja!I28 -> 0 | Z7: ='Hotel '!I164 -> 439.04 | AA7: =Pozostałe!I13 -> 0 | AB7: =SUM(B7:AA7) -> 1554.72
A8: Nie sprzątamy | B8: ='BG -1'!I110 -> 1013.5 | C8: ='BG 0'!I152 -> 218.82 | D8: ='BG 1'!I133 -> 0 | E8: ='BG 2'!I124 -> 0 | F8: ='BG 3'!I118 -> 0 | G8: ='BG 4'!I117 -> 0 | H8: ='BG 5'!I71 -> 12.85 | I8: ='BKS -1'!I81 -> 121.65 | J8: ='BKS 0'!I78 -> 0 | K8: ='BKS 1'!I78 -> 19.93 | L8: ='BKS 2'!I71 -> 6.72 | M8: ='BKS 3'!I90 -> 12.85 | N8: ='Ks. Siemaszki 17b'!I73 -> 224.4 | O8: ='Pielęgniarek 6'!I18 -> 0 | P8: ='Pielęgniarek 7'!I10 -> 0 | Q8: ='Ks. Siemaszki 13a, 13b, 15,'!I11 -> 0 | R8: ='Ks. Siemaszki 16'!I9 -> 0 | S8: ='Ks. Siemaszki 18'!I9 -> 0 | T8: ='Portiernia - parking'!I9 -> 0 | U8: ='Budynek szkoły rodzenia'!I11 -> 0 | V8: ='Budynek na zapleczu szpitala'!I11 -> 0 | W8: ='Budynek archiwum'!I37 -> 0 | X8: =Konternery!I12 -> 0 | Y8: =Rehabilitacja!I29 -> 0 | Z8: ='Hotel '!I165 -> 1926.4 | AA8: =Pozostałe!I14 -> 0 | AB8: =SUM(B8:AA8) -> 3557.12
A9: Razem: | B9: =SUM(B4:B8) -> 2316.39 | C9: =SUM(C4:C8) -> 2297.46 | D9: =SUM(D4:D8) -> 1765.19 | E9: =SUM(E4:E8) -> 1692.09 | F9: =SUM(F4:F8) -> 1674 | G9: =SUM(G4:G8) -> 1528.59 | H9: =SUM(H4:H8) -> 1068.22 | I9: =SUM(I4:I8) -> 1373.32 | ... AA9: =SUM(AA4:AA8) -> 1544.62 | AB9: =SUM(B9:AA9) -> 26738.22

Sheet BKS -1
A1: Nr pomieszczenia | B1: Powierzchnia | C1: Nazwa pomieszczenia | D1: Oddział | E1: Strefa | F1: Rodzaj powierzchni podłogi
A2: -1.13 | B2: 13.67 | C2: Post Mortem | D2: Prosektorium | E2: Biała | F2: PCV
A3: -1.26 | B3: 3.21 | C3: Śluza | D3: SOR | E3: Biała | F3: PCV
A4: -1.45 | B4: 3.33 | C4: Toaleta | D4: SOR | E4: Biała | F4: Płytki ceramiczne
A5: -1.48 | B5: 3.52 | C5: Toaleta | D5: SOR | E5: Biała | F5: Płytki ceramiczne
A6: -1.43a | B6: 3.52 | C6: Korytarz (śluza) | D6: SOR | E6: Biała | F6: PCV
A7: -1.24 | B7: 3.82 | C7: Śluza | D7: SOR | E7: Biała | F7: Płytki ceramiczne
A8: -1.59 | B8: 4.21 | C8: WC | D8: SOR | E8: Biała | F8: Płytki ceramiczne
A9: -1.59 b | B9: 4.21 | C9: Brudownik | D9: SOR | E9: Biała | F9: Płytki ceramiczne
A10: -1.62 | B10: 4.82 | C10: Magzyn | D10: SOR | E10: Biała | F10: Płytki ceramiczne
A11: -1.3 | B11: 4.88 | C11: WS | D11: SOR | E11: Biała | F11: Płytki ceramiczne
A12: -1.61 | B12: 5.74 | C12: Magzyn | D12: SOR | E12: Biała | F12: PCV
A13: -1.66 | B13: 6.75 | C13: Mycie lekarza | D13: SOR | E13: Biała | F13: PCV
... A43: -1.46 | B43: 47.72 | C43: Obszar segregacji medycznej | D43: SOR | E43: Biała | F43: PCV
A44: -1.1 | B44: 52.69 | C44: Korytarz | D44: SOR | E44: Biała
A45: -1.43 | B45: 80.68 | C45: Korytarz | D45: SOR | E45: Biała | F45: PCV
A46: -1.22b | B46: 1.05 | C46: Pom. techniczne | D46: SOR | E46: Nie sprzątamy
A47: -1.22c | B47: 1.96 | C47: Pom. techniczne | D47: SOR | E47: Nie sprzątamy
A48: -1.2 | B48: 4.41 | C48: Pom. Techniczne | D48: SOR | E48: Nie sprzątamy
A49: -1.42 | B49: 5.85 | C49: Pomieszczenie porządkowe (do wynajęcia) | D49: DHiUC | E49: Nie sprzątamy
A50: -1.9 | B50: 7.52 | C50: Pom. Socjalne (sklep) | D50: Sklep | E50: Nie sprzątamy
A51: -1.65 | B51: 8.09 | C51: Pomieszczenie techniczne | D51: SOR | E51: Nie sprzątamy
A52: -1.22 | B52: 9.09 | C52: Pom. techniczne | D52: SOR | E52: Nie sprzątamy
A53: -1.14 | B53: 11.95 | C53: Pomieszczenie techniczne | D53: SOR | E53: Nie sprzątamy
A54: -1.16 | B54: 17.02 | C54: Pomieszczenie techniczne | D54: SOR | E54: Nie sprzątamy
A55: -1.8 | B55: 21.27 | C55: Sklep medyczny (sklep) | D55: Sklep | E55: Nie sprzątamy
A56: -1.15 | B56: 33.44 | C56: Pomieszczenie techniczne | D56: SOR | E56: Nie sprzątamy
A57: -1.20 | B57: 3.72 | C57: Pom. gospodarcze | D57: SOR | E57: Biała | F57: Płytki ceramiczne
A58: -1.39 | B58: 3.77 | C58: WC | D58: SOR | E58: Biała | F58: Płytki ceramiczne
A59: -1.40 | B59: 4.17 | C59: WC | D59: SOR | E59: Biała | F59: Płytki ceramiczne
A60: -1.38 | B60: 4.51 | C60: WC | D60: SOR | E60: Biała | F60: Płytki ceramiczne
A61: -1.19 | B61: 5.1 | C61: Archiwum | D61: SOR | E61: Szara | F61: PCV
A62: -1.35 | B62: 11.48 | C62: Wiatrołap | D62: SOR | E62: Szara | F62: Płytki ceramiczne
A63: -1.57 | B63: 14.5 | C63: Magazynek Oddziałowej | D63: SOR | E63: Biała | F63: PCV
A64: -1.7 | B64: 48.75 | C64: Korytarz | D64: SOR | E64: Szara | F64: PCV/Płytki ceramiczne
A65: -1.36 | B65: 95.31 | C65: Ciepła sień | D65: SOR | E65: Szara | F65: Farba podłogowa
A66: -1.30 | B66: 104.58 | C66: Korytarz | D66: SOR | E66: Biała | F66: Płytki ceramiczne
A67: -1.12 | B67: 13.81 | C67: Przewiązka | D67: Wspólna | E67: Szara | F67: PCV
A68: -1.34 | B68: 7.54 | C68: Portiernia | D68: Dział Techniczny | E68: Szara | F68: Płytki ceramiczne
... A74: -1.11 | B74: 15.22 | C74: Pom. Biurowe | D74: Karetki | E74: Szara Biurowa | F74: PCV
...

Sheet BKS 0
A1: Nr pomieszczenia | B1: Powierzchnia | C1: Nazwa pomieszczenia | D1: Oddział | E1: Strefa | F1: Rodzaj powierzchni podłogi
A2: 0.16 | B2: 9.99 | C2: Poradnia Koloproktologiczna | D2: Poradnia Proktologiczna | E2: Biała | F2: PCV
A3: 0.14 | B3: 16.53 | C3: Poradnia Endokrynologiczna | D3: Poradnia Endokrynologiczna | E3: Biała | F3: PCV
A4: 0.44 | B4: 3.66 | C4: Magazyn | D4: Oddział Neurologii i Udarów | E4: Biała | F4: PCV
A5: 0.45 | B5: 3.66 | C5: Magazyn | D5: Oddział Neurologii i Udarów | E5: Biała | F5: PCV
A6: 0.46 | B6: 3.63 | C6: Magazyn | D6: Oddział Neurologii i Udarów | E6: Biała | F6: PCV
A7: 0.60 | B7: 31.04 | C7: Sala chorych | D7: Oddział Neurologii i Udarów | E7: Biała | F7: PCV
A8: 0.56 | B8: 29.45 | C8: Sala chorych | D8: Oddział Neurologii i Udarów | E8: Biała | F8: PCV
A9: 0.55 | B9: 29.25 | C9: Sala chorych | D9: Oddział Neurologii i Udarów | E9: Biała | F9: PCV
A10: 0.54 | B10: 31.38 | C10: Sala chorych | D10: Oddział Neurologii i Udarów | E10: Biała | F10: PCV
A11: 0.53 | B11: 19.36 | C11: Pokój zabiegowy | D11: Oddział Neurologii i Udarów | E11: Biała | F11: PCV
A12: 0.52 | B12: 18.69 | C12: Sala chorych | D12: Oddział Neurologii i Udarów | E12: Biała | F12: PCV
A13: 0.42 | B13: 14.7 | C13: WS | D13: Oddział Neurologii i Udarów | E13: Biała | F13: Płytki ceramiczne
... A70: 0.23 | B70: 30.13 | C70: Pom. Techniczne | D70: Dział informatyki | E70: Szara | F70: Nie sprzątamy
B71: 7.2 | C71: Winda nr 6, 7, | D71: Wspólna | E71: Szara | F71: PCV
A72: Razem: | B72: =SUM(B2:B71) -> 1297.48
H73: Strefa | I73: Powierzchnia
H74: Biała | I74: =SUMIF(E:E,"Biała*",B:B) -> 637.93
H75: Zielona | I75: =SUMIF(E:E,"Zielona*",B:B) -> 0
H76: Szara | I76: =SUMIF(E:E,"szara",B:B) -> 430.94
H77: Szara biurowa | I77: =SUMIF(E:E,"szara biurowa",B:B) -> 228.61
H78: Nie sprzątamy | I78: =SUMIF(E:E,"nie sprzątamy",B:B) -> 0
H79: Razem: | I79: =SUM(I74:I78) -> 1297.48

Sheet BKS 1
A1: Nr pomieszczenia | B1: Powierzchnia | C1: Nazwa pomieszczenia | D1: Oddział | E1: Strefa | F1: Rodzaj powierzchni podłogi
A2: 1.8 | B2: 16.35 | C2: Dyżurka Lekarska | D2: Oddział Kardiologii i Chorób Wewnętrznych | E2: Biała | F2: PCV
A3: 1.11 | B3: 5.46 | C3: WS | D3: Oddział Kardiologii i Chorób Wewnętrznych | E3: Biała | F3: Płytki ceramiczne
A4: 1.30a | B4: 13.51 | C4: Pokój zabiegowy | D4: Oddział Kardiologii i Chorób Wewnętrznych | E4: Biała | F4: PCV
A5: 1.37 | B5: 115.97 | C5: Korytarz | D5: Oddział Kardiologii i Chorób Wewnętrznych | E5: Biała | F5: PCV
A6: 1.32 | B6: 11.23 | C6: Dyżurka Pielęgniarek | D6: Oddział Kardiologii i Chorób Wewnętrznych | E6: Biała | F6: PCV
A7: 1.38 | B7: 16.57 | C7: Sala Chorych | D7: Oddział Kardiologii i Chorób Wewnętrznych | E7: Biała | F7: PCV
A8: 1.39 | B8: 2 | C8: WS | D8: Oddział Kardiologii i Chorób Wewnętrznych | E8: Biała | F8: Płytki ceramiczne
A9: 1.40 | B9: 28.1 | C9: Sala Chorych | D9: Oddział Kardiologii i Chorób Wewnętrznych | E9: Biała | F9: PCV
A10: 1.41 | B10: 4.82 | C10: WS | D10: Oddział Kardiologii i Chorób Wewnętrznych | E10: Biała | F10: Płytki ceramiczne
A11: 1.42 | B11: 29.14 | C11: Sala Chorych | D11: Oddział Kardiologii i Chorób Wewnętrznych | E11: Biała | F11: PCV
A12: 1.43 | B12: 26.86 | C12: Sala Chorych | D12: Oddział Kardiologii i Chorób Wewnętrznych | E12: Biała | F12: PCV
A13: 1.44 | B13: 5.21 | C13: WS | D13: Oddział Kardiologii i Chorób Wewnętrznych | E13: Biała | F13: Płytki ceramiczne
... A66: 1.57 | B66: 10.53 | C66: WS | D66: Oddział Kliniczny Onkologii Klinicznej | E66: Biała | F66: Płytki ceramiczne
A67: 1.35 | B67: 14.86 | C67: Pom. techniczne | D67: Oddział Kliniczny Onkologii Klinicznej | E67: Nie sprzątamy
A68: 1.36 | B68: 5.07 | C68: Pom. techniczne | D68: Oddział Kliniczny Onkologii Klinicznej | E68: Nie sprzątamy
A69: KS.2- | B69: 13.36 | C69: Klatka schodowa | D69: Wspólna | E69: Szara | F69: Lastriko
A70: 1.1 | B70: 63.69 | C70: Korytarz | D70: Wspólna | E70: Szara | F70: PCV
A71: KS.1 | B71: 50.04 | C71: Klatka schodowa | D71: Wspólna | E71: Szara | F71: Lastriko
A72: Razem: | B72: =SUM(B2:B71) -> 1155.47
H73: Strefa | I73: Powierzchnia
H74: Biała | I74: =SUMIF(E:E,"Biała*",B:B) -> 961.82
H75: Zielona | I75: =SUMIF(E:E,"Zielona*",B:B) -> 0
H76: Szara | I76: =SUMIF(E:E,"szara",B:B) -> 137.24
H77: Szara biurowa | I77: =SUMIF(E:E,"szara biurowa",B:B) -> 36.48
H78: Nie sprzątamy | I78: =SUMIF(E:E,"nie sprzątamy",B:B) -> 19.93
H79: Razem: | I79: =SUM(I74:I78) -> 1155.47

Sheet BKS 2
A1: Nr pomieszczenia | B1: Powierzchnia | C1: Nazwa pomieszczenia | D1: Oddzial | E1: Strefa | F1: Rodzaj powierzchni podłogi
A2: 2.7 | B2: 18.08 | C2: Kierownik | D2: Oddział Chorób Wewnętrznych i Chorób Płuc | E2: Szara Biurowa | F2: PCV
A3: 2.6 | B3: 20.98 | C3: Sekretariat | D3: Oddział Chorób Wewnętrznych i Chorób Płuc | E3: Szara Biurowa | F3: PCV
A4: 2.8 | B4: 15.03 | C4: Pokój socjalny | D4: Oddział Chorób Wewnętrznych i Chorób Płuc | E4: Szara Biurowa | F4: PCV
A5: 2.11 | B5: 6.4 | C5: WS | D5: Oddział Chorób Wewnętrznych i Chorób Płuc | E5: Biała | F5: Płyki ceramiczne
A6: 2.10 | B6: 32.87 | C6: Sala Chorych | D6: Oddział Chorób Wewnętrznych i Chorób Płuc | E6: Biała | F6: PCV
A7: 2.12 | B7: 6.72 | C7: Pomieszczenie porządkowe (do wynajęcia) | D7: Oddział Chorób Wewnętrznych i Chorób Płuc | E7: Nie sprzątamy
A8: 2.14 | B8: 3.81 | C8: WS | D8: Oddział Chorób Wewnętrznych i Chorób Płuc | E8: Biała | F8: Płyki ceramiczne
A9: 2.13 | B9: 25.9 | C9: Sala Chorych | D9: Oddział Chorób Wewnętrznych i Chorób Płuc | E9: Biała | F9: PCV
A10: 2.15 | B10: 33.27 | C10: Sala Chorych | D10: Oddział Chorób Wewnętrznych i Chorób Płuc | E10: Biała | F10: PCV
A11: 2.17 | B11: 27.14 | C11: Sala Chorych | D11: Oddział Chorób Wewnętrznych i Chorób Płuc | E11: Biała | F11: PCV
A12: 2.18 | B12: 15.58 | C12: Sala Chorych | D12: Oddział Chorób Wewnętrznych i Chorób Płuc | E12: Biała | F12: PCV
A13: 2.19 | B13: 2.85 | C13: WS | D13: Oddział Chorób Wewnętrznych i Chorób Płuc | E13: Biała | F13: Płyki ceramiczne
A14: 2.20 | B14: 20.01 | C14: Sala Chorych | D14: Oddział Chorób Wewnętrznych i Chorób Płuc | E14: Biała | F14: PCV
A15: 2.21 | B15: 3.17 | C15: WS | D15: Oddział Chorób Wewnętrznych i Chorób Płuc | E15: Biała | F15: Płyki ceramiczne
A16: 2.30 | B16: 20.53 | C16: Sala Chorych | D16: Oddział Chorób Wewnętrznych i Chorób Płuc | E16: Biała | F16: PCV
A17: 2.31 | B17: 10.4 | C17: Dyżurka pielęgniarek | D17: Oddział Chorób Wewnętrznych i Chorób Płuc | E17: Biała | F17: PCV
A18: 2.32 | B18: 20.56 | C18: Sala Chorych | D18: Oddział Chorób Wewnętrznych i Chorób Płuc | E18: Biała | F18: PCV
A19: 2.33 | B19: 10.42 | C19: Pielęgniarka Oddziałowa | D19: Oddział Chorób Wewnętrznych i Chorób Płuc | E19: Biała | F19: PCV
... A64: KS.1 | B64: 51 | C64: Klatka schodowa | D64: Wspólna | E64: Szara | F64: Lastriko
A65: Razem: | B65: =SUM(B2:B64) -> 1161.96
H66: Strefa | I66: Powierzchnia
H67: Biała | I67: =SUMIF(E:E,"Biała*",B:B) -> 927.72
H68: Zielona | I68: =SUMIF(E:E,"Zielona*",B:B) -> 0
H69: Szara | I69: =SUMIF(E:E,"szara",B:B) -> 156.25
H70: Szara biurowa | I70: =SUMIF(E:E,"szara biurowa",B:B) -> 71.27
H71: Nie sprzątamy | I71: =SUMIF(E:E,"nie sprzątamy",B:B) -> 6.72
H72: Razem: | I72: =SUM(I67:I71) -> 1161.96

Sheet BKS 3
A1: Nr pomieszczenia | B1: Powierzchnia | C1: Nazwa pomieszczenia | D1: Oddział | E1: Strefa | F1: Rodzaj powierzchni podłogi
A2: KS.2 | B2: 14.72 | C2: Klatka schodowa | D2: Wspólna | E2: Szara | F2: Lastriko
A3: 3.48 | B3: 16.85 | C3: Pom. Biurowe | D3: Dział Kadr | E3: Szara biurowa | F3: PCV
A4: 3.55 | B4: 23.78 | C4: Główny Księgowy | D4: Dział Finansowo Księgowy | E4: Szara biurowa | F4: PCV
A5: 3.54 | B5: 16 | C5: Pom. Biurowe | D5: Dział Finansowo Księgowy | E5: Szara biurowa | F5: PCV
A6: 3.57 | B6: 16 | C6: Pom. Biurowe | D6: Dział Finansowo Księgowy | E6: Szara biurowa | F6: PCV
A7: 3.58 | B7: 20.94 | C7: Pom. Biurowe | D7: Dział Finansowo Księgowy | E7: Szara biurowa | F7: PCV
A8: 3.59 | B8: 17.55 | C8: Kierownik | D8: Dział Finansowo Księgowy | E8: Szara biurowa | F8: PCV
A9: 3.64 | B9: 26.94 | C9: Punkt poboru materiału | D9: Labolatorium | E9: Biała | F9: PCV
A10: 3.61 | B10: 11.25 | C10: Hol | D10: Labolatorium | E10: Biała | F10: PCV
A11: 3,66 | B11: 26.58 | C11: Analiza ogólna | D11: Labolatorium | E11: Biała | F11: PCV
A12: 3.67 | B12: 9.98 | C12: Pokój Kierownika | D12: Labolatorium | E12: Biała | F12: PCV
A13: 3.68 | B13: 18.98 | C13: Pokój socjalny | D13: Labolatorium | E13: Biała | F13: PCV
... A20: 3.6 | B20: 6.61 | C20: Kierownik Banku Krwi | D20: Labolatorium | E20: Biała | F20: PCV
A21: 3.12 | B21: 9.91 | C21: Maszynownia | D21: Labolatorium | E21: Nie sprzątamy
A22: 3.7 | B22: 6.96 | C22: Korytarz | D22: Wirusologia/ Labolatorium | E22: Biała | F22: PCV
A23: 3.78 | B23: 5.15 | C23: Archiwum | D23: Labolatorium | E23: Szara | F23: PCV
A24: 3.79 | B24: 3.3 | C24: Magazyn | D24: Labolatorium | E24: Szara | F24: PCV
A25: 3.77 | B25: 14.46 | C25: Magazyn | D25: Labolatorium | E25: Biała | F25: PCV
A26: 3.72 | B26: 21.53 | C26: WS nieczynny | D26: Labolatorium | E26: Biała | F26: Płytki ceramiczne
A27: 3.71 | B27: 15.26 | C27: Szatnia | D27: Labolatorium | E27: Biała | F27: PCV
A28: 3.73 | B28: 15.41 | C28: Magazyn | D28: Labolatorium | E28: Biała | F28: PCV
A29: 3.70 | B29: 5.36 | C29: PDS | D29: Labolatorium | E29: Biała | F29: PCV
A30: 3.74 | B30: 5.42 | C30: PDS | D30: Labolatorium | E30: Biała | F30: PCV
A31: 3.75 | B31: 3.29 | C31: WC | D31: Labolatorium | E31: Biała | F31: Płytki ceramiczne
A32: 3.69 | B32: 2.73 | C32: SUW | D32: Labolatorium | E32: Biała | F32: Płytki ceramiczne
A33: 3.76 | B33: 29.01 | C33: Korytarz | D33: Wspólna | E33: Szara | F33: PCV
... A57: 3.40 | B57: 6.85 | C57: Korytarz | D57: Aparatura Medyczna | E57: Szara | F57: PCV
A58: 3.36 | B58: 2.94 | C58: Wyjście na poddasze | D58: Dział Techniczny | E58: Nie sprzątamy
A59: 3.35 | B59: 4.23 | C59: Magazyn | D59: Pracownia Mikrobiologii | E59: Biała | F59: PCV
A60: 3.34 | B60: 3.5 | C60: Przyjmowanie materiału do badań | D60: Pracownia Mikrobiologii | E60: Biała | F60: PCV
A61: 3.24 | B61: 3.54 | C61: Śluza czysta | D61: Pracownia Mikrobiologii | E61: Biała | F61: PCV
A62: 3.9 | B62: 33.66 | C62: Korytarz | D62: Wspólna | E62: Szara | F62: Płytki ceramiczne
A63: 3.22 | B63: 2.85 | C63: Śluza brudna | D63: Pracownia Mikrobiologii | E63: Biała | F63: Płytki ceramiczne
A64: 3.23 | B64: 7.2 | C64: WS | D64: Pracownia Mikrobiologii | E64: Biała | F64: Płytki ceramiczne
A65: 3.51 | B65: 17.67 | C65: Studenci Szatnia Damska | D65: Wspólna | E65: Szara | F65: Płytki ceramiczne
A66: 3.52 | B66: 12.92 | C66: Studenci Szatnia Męska | D66: Wspólna | E66: Szara | F66: Płytki ceramiczne
A67: 3,63 | B67: 2.45 | C67: KOR | D67: Labolatorium | E67: Biała | F67: PCV
A68: 3.62 | B68: 3.15 | C68: WC | D68: Labolatorium | E68: Biała | F68: Płytki ceramiczne
A69: 3.60 | B69: 4.1 | C69: WC | D69: Dział Finansowo Księgowy | E69: Szara | F69: Płytki ceramiczne
...

Sheet BG -1
A1: Nr pomieszczenia | B1: Powierzchnia | C1: Nazwa pomieszczenia | D1: Oddział | E1: Strefa | F1: Rodzaj powierzchni podłogi
A2: - 1.22 | B2: 21.41 | C2: Archiwum | D2: Apteka | E2: Biała | F2: PCV
A3: - 1.21 | B3: 13.81 | C3: Magazyn Materiałów Łatwopalnychi Żrących | D3: Apteka | E3: Biała | F3: Płytki ceramiczne
A4: - 1.20 | B4: 11.15 | C4: Magazyn | D4: Apteka | E4: Biała | F4: pcv
A5: - 1.19 | B5: 6.7 | C5: Skł. Porz. | D5: Apteka | E5: Biała | F5: Płytki ceramiczne
A6: - 1.18 | B6: 44.01 | C6: Wentylatornia | D6: Apteka | E6: Nie sprzątamy
A7: - 1.16 | B7: 33.46 | C7: Wentylatornia | D7: Sortownia | E7: Nie sprzątamy
A8: - 1.15 | B8: 17.14 | C8: Pomieszczenie Techniczne | D8: Sortownia | E8: Nie sprzątamy
A9: - 1.14 | B9: 12.67 | C9: Pomieszczenie Techniczne | D9: Sortownia | E9: Nie sprzątamy
A10: - 1.11 | B10: 18.22 | C10: Pomieszczenie Wydawania i Odbioru | D10: Sortownia | E10: Szara | F10: Płytki ceramiczne
A11: - 1.10 | B11: 4.23 | C11: Magazyn Bielizny Czystej | D11: Sortownia | E11: Szara | F11: Płytki ceramiczne
A12: - 1.12 | B12: 3.56 | C12: Pomieszczenie Socjalne | D12: Sortownia | E12: Szara | F12: Płytki ceramiczne
A13: - 1.13 | B13: 2.68 | C13: WC | D13: Sortownia | E13: Szara | F13: Płytki ceramiczne
A14: - 1.6 | B14: 24.97 | C14: Korytarz | D14: Sortownia | E14: Szara | F14: Płytki ceramiczne
A15: - 1.7 | B15: 1.83 | C15: Pomieszczenie Porządkowe | D15: Sortownia | E15: Szara | F15: Płytki ceramiczne
A16: - 1.1 | B16: 23.54 | C16: Magazyn Bielizny Brudnej | D16: Sortownia | E16: Szara | F16: Płytki ceramiczne
A17: - 1.2 | B17: 7.24 | C17: Magazyn Wózków Brudnych | D17: Sortownia | E17: Szara | F17: Płytki ceramiczne
A18: - 1.3 | B18: 6.78 | C18: Mycie Wózków | D18: Sortownia | E18: Szara | F18: Płytki ceramiczne
A19: - 1.4 | B19: 9.29 | C19: Suszenie Wózków | D19: Sortownia | E19: Szara | F19: Płytki ceramiczne
A20: - 1.9 | B20: 41.88 | C20: Korytarz | D20: Sortownia | E20: Szara | F20: Płytki ceramiczne
A21: - 1.39 | B21: 66.44 | C21: Korytarz | D21: Wspólna | E21: Szara | F21: Płytki ceramiczne
... A24: - 1.28 | B24: 14.96 | C24: Klatka Schodowa | D24: Apteka | E24: Szara | F24: PCV
A25: - 1.28b | B25: 5.12 | C25: Pomieszczenie Techniczne | D25: Apteka | E25: Nie sprzątamy
A26: - 1.40 | B26: 19.93 | C26: Magazyn Sklepiku | D26: Sklep | E26: Nie sprzątamy
A27: - 1.41 | B27: 10.7 | C27: Magazyn Elektryków | D27: Dział Techniczny | E27: Szara | F27: Płytki ceramiczne
A28: - 1.42 | B28: 30.75 | C28: Korytarz | D28: Wspólna | E28: Szara | F28: Płytki ceramiczne
A29: - 1.48 | B29: 22.57 | C29: Tlenownia | D29: Dział Techniczny | E29: Szara | F29: Płytki ceramiczne
A30: - 1.44 | B30: 6.22 | C30: WC Męskie | D30: Wspólna | E30: Szara | F30: Płytki ceramiczne
A31: - 1.45 | B31: 190.47 | C31: Szatnia Damska | D31: Wspólna | E31: Szara | F31: Płytki ceramiczne
A32: - 1.47 | B32: 5.13 | C32: Szatnia damska WS | D32: Wspólna | E32: Szara | F32: Płytki ceramiczne
A33: - 1.46 | B33: 4.02 | C33: Przyłącze W.Z. | D33: Dział Techniczny | E33: Nie sprzątamy | F33: Płytki ceramiczne
A34: - 1.43 | B34: 5.73 | C34: WC Damskie | D34: Wspólna | E34: Szara | F34: Płytki ceramiczne
A35: - 1.64 | B35: 32.09 | C35: Warsztat Hydraulików | D35: Dział Techniczny | E35: Szara | F35: Płytki ceramiczne
A36: - 1.65 | B36: 7.32 | C36: Pomieszczenie Socjalne | D36: Dział Techniczny | E36: Szara | F36: Płytki ceramiczne
A37: - 1.63 | B37: 2.98 | C37: Korytarz | D37: Dział Techniczny | E37: Szara | F37: Płytki ceramiczne
A38: - 1.66 | B38: 14.87 | C38: Warsztat Elektryków | D38: Dział Techniczny | E38: Szara | F38: Płytki ceramiczne
A39: - 1.95 | B39: 72.67 | C39: Magazyn Przyborów Sanitarbych | D39: Dział Techniczny | E39: Nie sprzątamy
A40: - 1.96 | B40: 41.8 | C40: Magazyn Przyborów Sanitarbych | D40: Dział Techniczny | E40: Nie sprzątamy
A41: - 1.97 | B41: 23.45 | C41: Magazyn Przyborów Sanitarbych | D41: Dział Techniczny | E41: Nie sprzątamy
A42: - 1.67 | B42: 12.44 | C42: Wejście Zlewkownia | D42: Wspólna | E42: Szara | F42: Płytki ceramiczne
...

Sheet BG 0
A1: Nr pomieszczenia | B1: Powierzchia | C1: Nazwa pomieszczenia | D1: Oddział | E1: Strefa | F1: Rodzaj powierzchni podłogi
A2: 0.1 | B2: 3.81 | C2: WC | D2: Poradnia Ginekologiczna | E2: Biała | F2: Płytki ceramiczne
A3: 0.100 | B3: 8.59 | C3: Pomieszczenie Socjalne | D3: Najem WYROBEK | E3: Nie sprzątamy
A4: 0.101 | B4: 2.27 | C4: Magazyn | D4: Najem WYROBEK | E4: Nie sprzątamy
A5: 0.102 | B5: 2.03 | C5: Pomieszczenie Porządkowe | D5: RTG | E5: Szara | F5: Płytki ceramiczne
A6: 0.103 | B6: 29.47 | C6: Magazyn | D6: RTG | E6: Szara | F6: PCV
A7: 0.104 | B7: 12.07 | C7: Przejście służbowe | D7: RTG | E7: Szara | F7: Płytki ceramiczne
A8: 0.104a | B8: 1.75 | C8: Przejście służbowe | D8: RTG | E8: Szara | F8: Płytki ceramiczne
A9: 0.105 | B9: 1.76 | C9: Śluza | D9: RTG | E9: Biała | F9: Płytki ceramiczne
A10: 0.106 | B10: 25.97 | C10: Pracownia RTG | D10: RTG | E10: Biała | F10: PCV
A11: 0.107 | B11: 3.43 | C11: WC | D11: RTG | E11: Biała | F11: Płytki ceramiczne
A12: 0.108 | B12: 3.16 | C12: WC | D12: RTG | E12: Szara | F12: Płytki ceramiczne
A13: 0.109 | B13: 8.91 | C13: Przejście Służbowe | D13: RTG | E13: Biała | F13: Płytki ceramiczne
A14: 0.10b | B14: 7.46 | C14: WC pacjenów, WC personelu (0,10a) | D14: Wspólna | E14: Szara | F14: Płytki ceramiczne
A15: 0.11 | B15: 8.56 | C15: Ekspedycja | D15: Apteka | E15: Szara | F15: PCV
A16: 0.110 | B16: 13.56 | C16: Ciemnia | D16: RTG | E16: Biała | F16: Płytki ceramiczne
... A19: 0.113 | B19: 45.89 | C19: Korytarz | D19: RTG | E19: Szara | F19: Płytki ceramiczne
A20: 0.114 | B20: 3.4 | C20: Serwerownia | D20: Dział techniczny | E20: Nie sprzątamy
A21: 0.115 | B21: 15.11 | C21: Kierownik | D21: RTG | E21: Szara biurowa | F21: PCV
A22: 0.116 | B22: 6.18 | C22: WS | D22: RTG | E22: Szara | F22: Płytki ceramiczne
A23: 0.117 | B23: 16.22 | C23: Pomieszczenie Socjalne Techników | D23: RTG | E23: Szara | F23: PCV
A24: 0.118 | B24: 15.81 | C24: Dyżurka | D24: RTG | E24: Szara | F24: PCV
A25: 0.119 | B25: 15.81 | C25: Dyżurka | D25: RTG | E25: Szara | F25: PCV
A26: 0.12 | B26: 13.1 | C26: Pokój Kierownika | D26: Apteka | E26: Szara biurowa | F26: PCV
A27: 0.120 | B27: 15.81 | C27: Obróbka Cyfrowa | D27: RTG | E27: Szara | F27: PCV
A28: 0.121 | B28: 18.53 | C28: U.S.G. | D28: RTG | E28: Biała | F28: Płytki ceramiczne
A29: 0.122 | B29: 14.12 | C29: U.S.G. | D29: RTG | E29: Biała | F29: Płytki ceramiczne
A30: 0.123 | B30: 19.6 | C30: Dział Informatyki i Adm. Siecią Komputerową | D30: Dział Informatyki | E30: Szara Biurowa | F30: Płytki ceramiczne
A31: 0.124 | B31: 8.67 | C31: Pomieszczene Techniczne Serwerownia | D31: Dział techniczny | E31: Nie sprzątamy
A32: 0.124b | B32: 0.88 | C32: Pomieszczene Techniczne Serwerownia | D32: Dział techniczny | E32: Nie sprzątamy
A33: 0.125 | B33: 103.99 | C33: Przewiązka | D33: Wspólna | E33: Szara | F33: PCV-Płytks ceramoczna-Lastriko
A34: 0.126 | B34: 32.27 | C34: Korytarz | D34: Wspólna | E34: Szara | F34: Płytki ceramiczne
A35: 0.127 | B35: 17.48 | C35: Gabinet Lekarski | D35: Poradnia Neurologi Pracownia EMG | E35: Biała | F35: PCV
A36: 0.128 | B36: 14.66 | C36: Gabinet Lekarski | D36: Poradnia Anestezjologiczna | E36: Biała | F36: PCV
A37: 0.129 | B37: 16.94 | C37: Gabinet Lekarski | D37: Poradnia Urazowo-Ortopedyczna | E37: Biała | F37: PCV
A38: 0.13 | B38: 3.53 | C38: WC | D38: Apteka | E38: Szara | F38: Płytki ceramiczne
A39: 0.130 | B39: 15.91 | C39: Gabinet Lekarski | D39: Poradnia Urazowo-Ortopedyczna | E39: Biała | F39: PCV
A40: 0.131 | B40: 3.58 | C40: Magazyn | D40: Dział techniczny | E40: Nie sprzątamy
A41: 0.132 | B41: 4.75 | C41: WS | D41: Wspólna | E41: Szara | F41: Płytki ceramiczne
A42: 0.133 | B42: 1.24 | C42: WC | D42: Wspólna | E42: Szara | F42: Płytki ceramiczne
...

Sheet BG 1
A1: Nr pomieszczenia | B1: Powierzchnia | C1: Nazwa pomieszczenia | D1: Oddział | E1: Strefa | F1: Rodzaj powierzchni podłogi
A2: 1.5 | B2: 18.97 | C2: Sala Chorych 9 | D2: Oddział Położnictwa i Ginekologii z Onkologią | E2: Biała | F2: PCV
A3: 1.7 | B3: 24.83 | C3: Sala Chorych 8 | D3: Oddział Położnictwa i Ginekologii z Onkologią | E3: Biała | F3: PCV
A4: 1.8 | B4: 4.81 | C4: WS | D4: Oddział Położnictwa i Ginekologii z Onkologią | E4: Biała | F4: Płytki ceramiczne
A5: 1.11 | B5: 4.81 | C5: WS | D5: Oddział Położnictwa i Ginekologii z Onkologią | E5: Biała | F5: Płytki ceramiczne
A6: 1.10 | B6: 24.83 | C6: Sala Chorych 7 | D6: Oddział Położnictwa i Ginekologii z Onkologią | E6: Biała | F6: PCV
A7: 1.12 | B7: 12.27 | C7: Pokój Lekarski | D7: Oddział Położnictwa i Ginekologii z Onkologią | E7: Biała | F7: PCV
A8: 1.3 | B8: 6.75 | C8: WS | D8: Oddział Położnictwa i Ginekologii z Onkologią | E8: Biała | F8: Płytki ceramiczne
A9: 1.2 | B9: 5.15 | C9: Baseniarnia | D9: Oddział Położnictwa i Ginekologii z Onkologią | E9: Biała | F9: Płytki ceramiczne
A10: 1.1 | B10: 4.86 | C10: Brudownik | D10: Oddział Położnictwa i Ginekologii z Onkologią | E10: Biała | F10: Płytki ceramiczne
A11: 1.4b | B11: 3.75 | C11: Przedsionek | D11: Oddział Położnictwa i Ginekologii z Onkologią | E11: Biała | F11: Płytki ceramiczne
A12: 1.4 | B12: 21.09 | C12: Korytarz | D12: Oddział Położnictwa i Ginekologii z Onkologią | E12: Biała | F12: PCV
A13: 1.9 | B13: 50.5 | C13: Korytarz | D13: Oddział Położnictwa i Ginekologii z Onkologią | E13: Biała | F13: PCV
... A125: 1.41 | B125: 29.19 | C125: Korytarz | D125: Wspólna | E125: Szara | F125: PCV
A126: Razem: | B126: =SUM(B2:B125) -> 1765.19
H128: Strefa | I128: Powierzchnia
H129: Biała | I129: =SUMIF(E:E,"Biała*",B:B) -> 1343.95
H130: Zielona | I130: =SUMIF(E:E,"Zielona*",B:B) -> 322.02
H131: Szara | I131: =SUMIF(E:E,"szara",B:B) -> 99.22
H132: Szara biurowa | I132: =SUMIF(E:E,"szara biurowa",B:B) -> 0
H133: Nie sprzątamy | I133: =SUMIF(E:E,"nie sprzątamy",B:B) -> 0
H134: Razem: | I134: =SUM(I129:I133) -> 1765.19

Sheet BG 2
A1: Nr pomieszczenia | B1: Powierzchnia | C1: Nazwa pomieszczenia | D1: Oddział | E1: Strefa | F1: Rodzaj powierzchni podłogi
A2: 2.88 | B2: 6.6 | C2: Dyżurka Lekarzy | D2: Odział Kliniczny Anestezjologii i Intensywnej Terapii | E2: Biała | F2: PCV
A3: 2.87 | B3: 5.59 | C3: Dyżurka Pielęgniarek | D3: Odział Kliniczny Anestezjologii i Intensywnej Terapii | E3: Biała | F3: PCV
A4: 2.86 | B4: 3.7 | C4: WS | D4: Odział Kliniczny Anestezjologii i Intensywnej Terapii | E4: Biała | F4: Płytki ceramiczne
A5: 2.85 | B5: 4.26 | C5: Brudownik | D5: Odział Kliniczny Anestezjologii i Intensywnej Terapii | E5: Biała | F5: Płytki ceramiczne
A6: 2.84c | B6: 3.71 | C6: Przedsionek | D6: Odział Kliniczny Anestezjologii i Intensywnej Terapii | E6: Biała | F6: PCV
A7: 2.84b | B7: 2.26 | C7: Przedsionek | D7: Odział Kliniczny Anestezjologii i Intensywnej Terapii | E7: Biała | F7: PCV
A8: 2.89b | B8: 1.94 | C8: Magazyn | D8: Odział Kliniczny Anestezjologii i Intensywnej Terapii | E8: Biała | F8: PCV
A9: 2.89 | B9: 79.06 | C9: Sala Chorych | D9: Odział Kliniczny Anestezjologii i Intensywnej Terapii | E9: Biała | F9: PCV
A10: 2.91 | B10: 14.34 | C10: Izolatka | D10: Odział Kliniczny Anestezjologii i Intensywnej Terapii | E10: Biała | F10: PCV
A11: 2.92 | B11: 2.51 | C11: WS | D11: Odział Kliniczny Anestezjologii i Intensywnej Terapii | E11: Biała | F11: Płytki ceramiczne
A12: 2.90 | B12: 2.18 | C12: WS | D12: Odział Kliniczny Anestezjologii i Intensywnej Terapii | E12: Biała | F12: Płytki ceramiczne
A13: 2.83 | B13: 12.45 | C13: Korytarz | D13: Odział Kliniczny Anestezjologii i Intensywnej Terapii | E13: Biała | F13: PCV
... A117: 2.58 | B117: 17.15 | C117: Sekretariat | D117: Poradnia Chirurgiczna | E117: Szara Biurowa | F117: Płytki ceramiczne
A118: Razem: | B118: =SUM(B2:B117) -> 1692.09
H119: Strefa | I119: Powierzchnia
H120: Biała | I120: =SUMIF(E:E,"Biała*",B:B) -> 1104.13
H121: Zielona | I121: =SUMIF(E:E,"Zielona*",B:B) -> 50.81
H122: Szara | I122: =SUMIF(E:E,"szara",B:B) -> 495.67
H123: Szara biurowa | I123: =SUMIF(E:E,"szara biurowa",B:B) -> 41.48
H124: Nie sprzątamy | I124: =SUMIF(E:E,"nie sprzątamy",B:B) -> 0
H125: Razem: | I125: =SUM(I120:I124) -> 1692.09

Sheet BG 3
A1: Nr pomieszczenia | B1: Powierzchnia | C1: Nazwa pomieszczenia | D1: Oddział | E1: Strefa | F1: Rodzaj powierzchni podłogi
A2: 3.88 | B2: 19.52 | C2: Sala Opatrunkowa | D2: Oddział Urazowo Ortopedyczny | E2: Biała | F2: Płytki ceramiczne
A3: 3.87 | B3: 16.4 | C3: Sala Konferencyjna | D3: Oddział Urazowo Ortopedyczny | E3: Biała | F3: Płytki ceramiczne
A4: 3.86 | B4: 3.64 | C4: Magazyn | D4: Oddział Urazowo Ortopedyczny | E4: Biała | F4: Płytki ceramiczne
A5: 3.85 | B5: 2.33 | C5: Brudownik | D5: Oddział Urazowo Ortopedyczny | E5: Biała | F5: Płytki ceramiczne
A6: 3.84a | B6: 4.17 | C6: Przedsionek | D6: Oddział Urazowo Ortopedyczny | E6: Biała | F6: PCV
A7: 3.84 | B7: 49.15 | C7: Korytarz | D7: Oddział Urazowo Ortopedyczny | E7: Biała | F7: PCV
A8: KS3 | B8: 18.27 | C8: Klatka Schodowa | D8: Wspólna | E8: Szara | F8: Lastriko
A9: 3.93 | B9: 12.89 | C9: Dyżuraka Pielęgniarki Oddziałowej | D9: Oddział Urazowo Ortopedyczny | E9: Biała | F9: PCV
A10: 3.94 | B10: 6.08 | C10: Kuchnia | D10: Oddział Urazowo Ortopedyczny | E10: Biała | F10: Płytki ceramiczne
A11: 3.91 | B11: 28.36 | C11: Sala Chorych 2 | D11: Oddział Urazowo Ortopedyczny | E11: Biała | F11: PCV
A12: 3.92 | B12: 4.05 | C12: WS | D12: Oddział Urazowo Ortopedyczny | E12: Biała | F12: Płytki ceramiczne
A13: 3.89 | B13: 28.61 | C13: Sala Chorych 1 | D13: Oddział Urazowo Ortopedyczny | E13: Biała | F13: PCV
... A111: 2.95 | B111: 45.36 | C111: Korytarz | D111: Oddział Urazowo Ortopedyczny | E111: Biała | F111: PCV
A112: Razem: | B112: =SUM(B2:B111) -> 1674
H113: Strefa | I113: Powierzchnia
H114: Biała | I114: =SUMIF(E:E,"Biała*",B:B) -> 1035.77
H115: Zielona | I115: =SUMIF(E:E,"Zielona*",B:B) -> 305.38
H116: Szara | I116: =SUMIF(E:E,"szara",B:B) -> 318.09
H117: Szara biurowa | I117: =SUMIF(E:E,"szara biurowa",B:B) -> 14.76
H118: Nie sprzątamy | I118: =SUMIF(E:E,"nie sprzątamy",B:B) -> 0
H119: Razem: | I119: =SUM(I114:I118) -> 1674

Sheet BG 4
A1: Nr pomieszczenia | B1: Powierzchnia | C1: Nazwa pomieszczenia | D1: Oddział | E1: Strefa | F1: Rodzaj powierzchni podłogi
A2: 4.83 | B2: 7.64 | C2: Brudownik | D2: Oddział Dziecięcy | E2: Biała | F2: Płytki ceramiczne
A3: 4.82 | B3: 2.01 | C3: WS | D3: Oddział Dziecięcy | E3: Biała | F3: Płytki ceramiczne
A4: 4.81 | B4: 2.48 | C4: WC | D4: Oddział Dziecięcy | E4: Biała | F4: Płytki ceramiczne
A5: 4.80 | B5: 1.82 | C5: WS | D5: Oddział Dziecięcy | E5: Biała | F5: Płytki ceramiczne
A6: 4.79 | B6: 2.53 | C6: Magazyn | D6: Oddział Dziecięcy | E6: Biała | F6: Płytki ceramiczne
A7: 4.84 | B7: 3.04 | C7: Śluza | D7: Oddział Dziecięcy | E7: Biała | F7: PCV
A8: 4.85 | B8: 15.87 | C8: Pokój 1 łóżkowy | D8: Oddział Dziecięcy | E8: Biała | F8: PCV
A9: 4.86 | B9: 3.24 | C9: WC | D9: Oddział Dziecięcy | E9: Biała | F9: Płytki ceramiczne
A10: 4.88 | B10: 12.13 | C10: Pokój 2 łóżkowy | D10: Oddział Dziecięcy | E10: Biała | F10: PCV
A11: 4.89 | B11: 11.46 | C11: Pokój 2 łóżkowy | D11: Oddział Dziecięcy | E11: Biała | F11: PCV
A12: 4.90 | B12: 11.51 | C12: Pokój 2 łóżkowy | D12: Oddział Dziecięcy | E12: Biała | F12: PCV
A13: 4.91 | B13: 11.38 | C13: Pokój 2 łóżkowy | D13: Oddział Dziecięcy | E13: Biała | F13: PCV
... A110: 4.60 | B110: 6.19 | C110: Magazyn | D110: Oddział Dziecięcy | E110: Szara | F110: PCV
A111: Razem: | B111: =SUM(B2:B110) -> 1528.59
H112: Strefa | I112: Powierzchnia
H113: Biała | I113: =SUMIF(E:E,"Biała*",B:B) -> 1249.93
H114: Zielona | I114: =SUMIF(E:E,"Zielona*",B:B) -> 0
H115: Szara | I115: =SUMIF(E:E,"szara",B:B) -> 181.4
H116: Szara biurowa | I116: =SUMIF(E:E,"szara biurowa",B:B) -> 97.26
H117: Nie sprzątamy | I117: =SUMIF(E:E,"nie sprzątamy",B:B) -> 0
H118: Razem: | I118: =SUM(I113:I117) -> 1528.59

Sheet BG 5
A1: Nr pomieszczenia | B1: Powierzchnia | C1: Nazwa pomieszczenia | D1: Oddział | E1: Strefa | F1: Rodzaj powierzchni podłogi
A2: 5.40 | B2: 6.95 | C2: Istneijąca maszynownia | D2: Dział Techniczny | E2: Nie sprzątamy | F2: beton malowany farbą kauczukową
A3: 5.45 | B3: 5.9 | C3: Wejście do maszynowni | D3: Dział Techniczny | E3: Nie sprzątamy | F3: Gres
A4: 5.26 | B4: 14.43 | C4: Klatka schodowa K1 | D4: Wspólna | E4: Szara | F4: Gres
A5: 5.39 | B5: 35.51 | C5: Korytarz przed BO | D5: Wspólna | E5: Szara | F5: PCV
A6: 5.41 | B6: 24.92 | C6: Klatka schodowa K2 | D6: Wspólna | E6: Szara | F6: Gres
A7: 5.1 | B7: 13.62 | C7: Szatnia brudna meska | D7: ZBO | E7: Zielona | F7: Gres
A8: 5.2 | B8: 11.98 | C8: Umywalnia | D8: ZBO | E8: Zielona | F8: Gres
A9: 5.3 | B9: 6.36 | C9: Brudna śluza szatniowa | D9: ZBO | E9: Zielona | F9: Gres
A10: 5.4 | B10: 4.84 | C10: Czytsa śluza szatniowa | D10: ZBO | E10: Zielona | F10: Gres
A11: 5.5 | B11: 39.81 | C11: Pomieszczenie socjalne | D11: ZBO | E11: Zielona | F11: PCV
A12: 5.6 | B12: 6.5 | C12: Korytarz | D12: ZBO | E12: Zielona | F12: PCV
A13: 5.7 | B13: 104.14 | C13: Sala nadzoru poznieczuleniowego - 6 stanowisk | D13: ZBO | E13: Zielona | F13: PCV antyelektrostat
... A58: 5.57 | B58: 5 | C58: Śluza | D58: ZBO | E58: Zielona | F58: PCV
A59: 5.58 | B59: 54.31 | C59: Korytarz | D59: ZBO | E59: Zielona
A60: 5.59 | B60: 22.65 | C60: Korytarz | D60: ZBO | E60: Zielona
A61: D3 | B61: 7.13 | C61: Winda D3- Szpitalna | D61: ZBO | E61: Zielona
A62: D2 | B62: 2.09 | C62: Winda D2- towarowa "czysta" | D62: ZBO | E62: Zielona
A63: D1 | B63: 2.09 | C63: Winda D1- towarowa"brudna" | D63: ZBO | E63: Zielona
A64: Razem: | B64: =SUM(B2:B63) -> 1068.22
H66: Strefa | I66: Powierzchnia
H67: Biała | I67: =SUMIF(E:E,"Biała*",B:B) -> 0
H68: Zielona | I68: =SUMIF(E:E,"Zielona*",B:B) -> 980.51
H69: Szara | I69: =SUMIF(E:E,"szara",B:B) -> 74.86
H70: Szara biurowa | I70: =SUMIF(E:E,"szara biurowa",B:B) -> 0
H71: Nie sprzątamy | I71: =SUMIF(E:E,"nie sprzątamy",B:B) -> 12.85
H72: Razem: | I72: =SUM(I67:I71) -> 1068.22

Sheet Ks. Siemaszki 17b
A1: Nr pomieszczenia | B1: Powierzchnia | C1: Nazwa pomieszczenia | D1: Oddział | E1: Strefa | F1: Rodzaj powierzchni podłogi
A2: 1.1 | B2: 30.8 | C2: Komunikajca | D2: Pracownia Patomorfologii | E2: Biała | F2: Gres
A3: 1.2 | B3: 6.3 | C3: WC Niepełnosprawnych | D3: Pracownia Patomorfologii | E3: Biała | F3: Gres
A4: 1.3 | B4: 5.8 | C4: WC | D4: Pracownia Patomorfologii | E4: Biała | F4: Gres
A5: 1.4 | B5: 4.4 | C5: Pom. Porządkowe | D5: Pracownia Patomorfologii | E5: Biała | F5: Gres
A6: 1.5 | B6: 13.8 | C6: Pokój socjalny | D6: Pracownia Patomorfologii | E6: Biała | F6: PVC
A7: 1.6 | B7: 29.8 | C7: Pokój biurowy zaopatrzenie | D7: Pracownia Patomorfologii | E7: Biała | F7: PVC
A8: 1.7 | B8: 24.8 | C8: Pokój biurowy rozliczenie i zaopatrzenie | D8: Pracownia Patomorfologii | E8: Biała | F8: PVC
A9: 1.8 | B9: 25.2 | C9: Pokój biurowy rozliczenie | D9: Pracownia Patomorfologii | E9: Biała | F9: PVC
A10: 1.9 | B10: 17.3 | C10: Gabinet Kierownika | D10: Pracownia Patomorfologii | E10: Biała | F10: PVC
A11: 1.10 | B11: 80 | C11: Komunikacja | D11: Pracownia Patomorfologii | E11: Biała | F11: Gres
A12: 1.11 | B12: 51.1 | C12: Magazyn Opatrunkowy | D12: Prosektorium | E12: Biała | F12: PVC
A13: 1.12 | B13: 40.3 | C13: Magazyn Środków Dezynfekcyjnych i Opatrunkowych | D13: Prosektorium | E13: Biała | F13: PVC
... A66: -KS1 | B66: 29 | C66: Klatka schodowa | D66: Magazyn/Prosektorium | E66: Szara | F66: Gres
A67: Razem: | B67: =SUM(B2:B66) -> 1493.3
H68: Strefa | I68: Powierzchnia
H69: Biała | I69: =SUMIF(E:E,"Biała*",B:B) -> 568.2
H70: Zielona | I70: =SUMIF(E:E,"Zielona*",B:B) -> 38.2
H71: Szara | I71: =SUMIF(E:E,"szara",B:B) -> 558
H72: Szara biurowa | I72: =SUMIF(E:E,"szara biurowa",B:B) -> 104.5
H73: Nie sprzątamy | I73: =SUMIF(E:E,"nie sprzątamy",B:B) -> 224.4
H74: Razem: | I74: =SUM(I69:I73) -> 1493.3

Sheet Pielęgniarek 6
A1: Zestawienie powierzchni ul. Pielęgniarek 6 - Kamienica
A2: Nr pomieszczenia | B2: Powierzchnia | C2: Nazwa Pomieszczenia | D2: Oddział | E2: Strefa | F2: Rodzaj powierzchni podłogi
A3: 0 | B3: 40 | C3: Warsztat ślusarski | D3: Dział techniczny | E3: Szara | F3: Lastriko
A4: 0 | B4: 9.2 | C4: Sanitariaty | D4: Dział techniczny | E4: Szara | F4: Lastriko
A5: 0 | B5: 21.18 | C5: KS0 | D5: Kamienica | E5: Szara | F5: Lastriko
A6: 1 | B6: 8.49 | C6: Korytarz boczny | D6: Kamienica | E6: Szara | F6: PCV
A7: 1 | B7: 16.43 | C7: KS1 | D7: Kamienica | E7: Szara | F7: Lastriko
A8: 2 | B8: 4.04 | C8: Korytarz boczny | D8: Kamienica | E8: Szara | F8: Panele
A9: 2 | B9: 16.42 | C9: KS2 | D9: Kamienica | E9: Szara | F9: Lastriko
A10: 3 | B10: 6.57 | C10: Korytarz boczny | D10: Kamienica | E10: Szara | F10: Panele
A11: 3 | B11: 16.4 | C11: KS3 | D11: Kamienica | E11: Szara | F11: Lastriko
A12: Razem: | B12: =SUM(B3:B11) -> 138.73
H13: Strefa | I13: Powierzchnia
H14: Biała | I14: =SUMIF(E:E,"Biała*",B:B) -> 0
H15: Zielona | I15: =SUMIF(E:E,"Zielona*",B:B) -> 0
H16: Szara | I16: =SUMIF(E:E,"szara",B:B) -> 138.73
H17: Szara biurowa | I17: =SUMIF(E:E,"szara biurowa",B:B) -> 0
H18: Nie sprzątamy | I18: =SUMIF(E:E,"nie sprzątamy",B:B) -> 0
H19: Razem: | I19: =SUM(I14:I18) -> 138.73

Sheet Pielęgniarek 7
A1: Zestawienie powierzchni ul. Pielęgniarek 7 - Kamienica
A2: Nr pomiszczenia | B2: Powierzchnia | C2: Nazwa Pomieszczenia | D2: Oddział | E2: Strefa | F2: Rodzaj powierzchni podłogi
A3: - | B3: 67 | C3: Pomieszczenia biurowe + Szwalnia | D3: Administracji i obsługi | E3: Szara | F3: Plytka ceramiczna
A4: Razem: | B4: =SUM(B3) -> 67
H5: Strefa | I5: Powierzchnia
H6: Biała | I6: =SUMIF(E:E,"Biała*",B:B) -> 0
H7: Zielona | I7: =SUMIF(E:E,"Zielona*",B:B) -> 0
H8: Szara | I8: =SUMIF(E:E,"szara",B:B) -> 67
H9: Szara biurowa | I9: =SUMIF(E:E,"szara biurowa",B:B) -> 0
H10: Nie sprzątamy | I10: =SUMIF(E:E,"nie sprzątamy",B:B) -> 0
H11: Razem: | I11: =SUM(I6:I10) -> 67

Sheet Ks. Siemaszki 13a, 13b, 15,
A1: Nr pomieszczenia | B1: Powierzchnia | C1: Nazwa Pomieszczenia | D1: Oddział | E1: Strefa | F1: Rodzaj powierzchni podłogi
A2: - | B2: 43.8 | C2: Klatka schodowa -cała (Ks. Siemaszki 13a) | D2: Kamienica | E2: Szara | F2: Lastriko
A3: - | B3: 56.1 | C3: Klatka schodowa -cała (Ks. Siemaszki 13b) | D3: Kamienica | E3: Szara | F3: Lastriko
A4: - | B4: 64.6 | C4: Klatka schodowa -cała (Ks. Siemaszki 15) | D4: Kamienica | E4: Szara | F4: Lastriko
A5: Razem: | B5: =SUM(B2:B4) -> 164.5
H6: Strefa | I6: Powierzchnia
H7: Biała | I7: =SUMIF(E:E,"Biała*",B:B) -> 0
H8: Zielona | I8: =SUMIF(E:E,"Zielona*",B:B) -> 0
H9: Szara | I9: =SUMIF(E:E,"szara",B:B) -> 164.5
H10: Szara biurowa | I10: =SUMIF(E:E,"szara biurowa",B:B) -> 0
H11: Nie sprzątamy | I11: =SUMIF(E:E,"nie sprzątamy",B:B) -> 0
H12: Razem: | I12: =SUM(I7:I11) -> 164.5

Sheet Ks. Siemaszki 16
A1: Nr pomieszczenia | B1: Powierzchnia | C1: Nazwa Pomieszczenia | D1: Oddział | E1: Strefa | F1: Rodzaj powierzchni podłogi
A2: - | B2: 24.32 | C2: Pomieszczenia archiwum | D2: Archiwum | E2: Szara | F2: PCV/Beton
A3: Razem: | B3: =SUM(B2:B2) -> 24.32
H4: Strefa | I4: Powierzchnia
H5: Biała | I5: =SUMIF(E:E,"Biała*",B:B) -> 0
H6: Zielona | I6: =SUMIF(E:E,"Zielona*",B:B) -> 0
H7: Szara | I7: =SUMIF(E:E,"szara",B:B) -> 24.32
H8: Szara biurowa | I8: =SUMIF(E:E,"szara biurowa",B:B) -> 0
H9: Nie sprzątamy | I9: =SUMIF(E:E,"nie sprzątamy",B:B) -> 0
H10: Razem: | I10: =SUM(I5:I9) -> 24.32

Sheet Ks. Siemaszki 18
A1: Nr pomieszczenia | B1: Powierzchnia | C1: Nazwa Pomieszczenia | D1: Oddział | E1: Strefa | F1: Rodzaj powierzchni podłogi
A2: - | B2: 65.67 | C2: Pomieszczenia archiwum | D2: Archiwum | E2: Szara | F2: PCV
A3: Razem: | B3: =SUM(B2:B2) -> 65.67
H4: Strefa | I4: Powierzchnia
H5: Biała | I5: =SUMIF(E:E,"Biała*",B:B) -> 0
H6: Zielona | I6: =SUMIF(E:E,"Zielona*",B:B) -> 0
H7: Szara | I7: =SUMIF(E:E,"szara",B:B) -> 65.67
H8: Szara biurowa | I8: =SUMIF(E:E,"szara biurowa",B:B) -> 0
H9: Nie sprzątamy | I9: =SUMIF(E:E,"nie sprzątamy",B:B) -> 0
H10: Razem: | I10: =SUM(I5:I9) -> 65.67

Sheet Portiernia - parking
A1: Nr pomieszczenia | B1: Powierzchnia | C1: Nazwa Pomieszczenia | D1: Oddział | E1: Strefa | F1: Rodzaj powierzchni podłogi
A2: - | B2: 11 | C2: Portiernia - Parking | D2: Dział Techniczny | E2: Szara | F2: Płytki ceramiczne
A3: Razem: | B3: =SUM(B2) -> 11
H4: Strefa | I4: Powierzchnia
H5: Biała | I5: =SUMIF(E:E,"Biała*",B:B) -> 0
H6: Zielona | I6: =SUMIF(E:E,"Zielona*",B:B) -> 0
H7: Szara | I7: =SUMIF(E:E,"szara",B:B) -> 11
H8: Szara biurowa | I8: =SUMIF(E:E,"szara biurowa",B:B) -> 0
H9: Nie sprzątamy | I9: =SUMIF(E:E,"nie sprzątamy",B:B) -> 0
H10: Razem: | I10: =SUM(I5:I9) -> 11

Sheet Budynek szkoły rodzenia
A1: Nr pomieszczenia | B1: Powierzchnia | C1: Nazwa Pomieszczenia | D1: Oddział | E1: Strefa | F1: Rodzaj powierzchni podłogi
A2: - | B2: 70.3 | C2: Sala Wykładowa + biuro | D2: Szkoła rodzenia | E2: Szara | F2: Płytki ceramiczne
A3: - | B3: 34.8 | C3: Sala ćwiczeń | D3: Szkoła rodzenia | E3: Szara | F3: Parkiet
A4: - | B4: 46.4 | C4: Korytarze + łazienki | D4: Szkoła rodzenia | E4: Szara | F4: Płytki ceramiczne
A5: Razem: | B5: =SUM(B2:B4) -> 151.5
H6: Strefa | I6: Powierzchnia
H7: Biała | I7: =SUMIF(E:E,"Biała*",B:B) -> 0
H8: Zielona | I8: =SUMIF(E:E,"Zielona*",B:B) -> 0
H9: Szara | I9: =SUMIF(E:E,"szara",B:B) -> 151.5
H10: Szara biurowa | I10: =SUMIF(E:E,"szara biurowa",B:B) -> 0
H11: Nie sprzątamy | I11: =SUMIF(E:E,"nie sprzątamy",B:B) -> 0
H12: Razem: | I12: =SUM(I7:I11) -> 151.5

Sheet Budynek na zapleczu szpitala
A1: Nr pomieszczenia | B1: Powierzchnia | C1: Nazwa Pomieszczenia | D1: Oddział | E1: Strefa | F1: Rodzaj powierzchni podłogi
A2: - | B2: 40 | C2: Pomieszczenie na odpady medyczne | D2: Dział Administracji | E2: Szara | F2: Płytki ceramiczne
A3: - | B3: 32 | C3: Pom. Prasa na odpady komunalne | D3: Dział Administracji | E3: Szara | F3: Beton
A4: - | B4: 45 | C4: Garaże | D4: Karetki | E4: Szara | F4: Płytki ceramiczne
A5: Razem: | B5: =SUM(B2:B4) -> 117
H6: Strefa | I6: Powierzchnia
H7: Biała | I7: =SUMIF(E:E,"Biała*",B:B) -> 0
H8: Zielona | I8: =SUMIF(E:E,"Zielona*",B:B) -> 0
H9: Szara | I9: =SUMIF(E:E,"szara",B:B) -> 117
H10: Szara biurowa | I10: =SUMIF(E:E,"szara biurowa",B:B) -> 0
H11: Nie sprzątamy | I11: =SUMIF(E:E,"nie sprzątamy",B:B) -> 0
H12: Razem: | I12: =SUM(I7:I11) -> 117

Sheet Budynek archiwum
A1: Nr pomieszczenia | B1: Powierzchnia | C1: Nazwa Pomieszczenia | D1: Oddział | E1: Strefa | F1: Rodzaj powierzchni podłogi
A2: 0 | B2: 34.18 | C2: Magazyn 20 | D2: Archiwum | E2: Szara | F2: PCV
A3: 0 | B3: 15.4 | C3: Korytarz | D3: Archiwum | E3: Szara | F3: Płytki ceramiczne
A4: 0 | B4: 98.49 | C4: Chydroforownia | D4: Dział Techniczny | E4: Szara | F4: Płytki ceramiczne
A5: 0 | B5: 11.06 | C5: Chlorownia | D5: Dział Techniczny | E5: Szara | F5: Płytki ceramiczne
A6: 0 | B6: 30.43 | C6: Korytarz | D6: Archiwum/Dział Techniczny | E6: Szara | F6: Płytki ceramiczne
A7: 0 | B7: 17.07 | C7: Magazyn 14 | D7: Archiwum | E7: Szara | F7: PCV
A8: 0 | B8: 39.16 | C8: Magazyn 15 | D8: Archiwum | E8: Szara | F8: Płytki ceramiczne
A9: 0 | B9: 4 | C9: Przedsionek | D9: Archiwum/Dział Techniczny | E9: Szara | F9: Płytki ceramiczne
A10: 0 | B10: 12.26 | C10: Magazyn 17 | D10: Archiwum | E10: Szara | F10: Płytki ceramiczne
A11: 0 | B11: 7.3 | C11: Magazyn 18 | D11: Archiwum | E11: Szara | F11: Beton
A12: 0 | B12: 68.33 | C12: Magazyn 19 | D12: Archiwum | E12: Szara | F12: Farba do posadzek
A13: 1 | B13: 3.49 | C13: Szatnia | D13: Archiwum | E13: Szara | F13: Płytki ceramiczne
... A27: 1 | B27: 5.29 | C27: Magazyn 2 | D27: Archiwum | E27: Szara | F27: Płytki ceramiczne
A28: KS | B28: 41.8 | C28: Klatka schodowa | D28: Archiwum | E28: Szara | F28: Płytki ceramiczne
A29: 1 | B29: 8.54 | C29: Pomieszczenie biurowe 12 | D29: Archiwum | E29: Szara biurowa | F29: Płytki ceramiczne
A30: 1 | B30: 10.98 | C30: Pomieszczenie biurowe 5 | D30: Archiwum | E30: Szara biurowa | F30: Płytki ceramiczne
A31: Razem: | B31: =SUM(B2:B30) -> 875.83
H32: Strefa | I32: Powierzchnia
H33: Biała | I33: =SUMIF(E:E,"Biała*",B:B) -> 0
H34: Zielona | I34: =SUMIF(E:E,"Zielona*",B:B) -> 0
H35: Szara | I35: =SUMIF(E:E,"szara",B:B) -> 856.31
H36: Szara biurowa | I36: =SUMIF(E:E,"szara biurowa",B:B) -> 19.52
H37: Nie sprzątamy | I37: =SUMIF(E:E,"nie sprzątamy",B:B) -> 0
H38: Razem: | I38: =SUM(I33:I37) -> 875.83

Sheet Konternery
A1: Nr pomieszczenia | B1: Powierzchnia | C1: Nazwa Pomieszczenia | D1: Oddział | E1: Strefa | F1: Rodzaj powierzchni podłogi
A2: 0 | B2: 78 | C2: Opieka nocna i świąteczna | D2: Opieka nocna i świąteczna | E2: Biała | F2: PCV
A3: 0 | B3: 13 | C3: Pomoeszczenie szczepień I | D3: SOR | E3: Biała | F3: PCV
A4: 0 | B4: 13 | C4: Pomoeszczenie szczepień II | D4: SOR | E4: Biała | F4: PCV
A5: 0 | B5: 13 | C5: Pomoeszczenie szczepień III | D5: SOR | E5: Biała | F5: PCV
A6: Razem: | B6: =SUM(B2:B5) -> 117
H7: Strefa | I7: Powierzchnia
H8: Biała | I8: =SUMIF(E:E,"Biała*",B:B) -> 117
H9: Zielona | I9: =SUMIF(E:E,"Zielona*",B:B) -> 0
H10: Szara | I10: =SUMIF(E:E,"szara",B:B) -> 0
H11: Szara biurowa | I11: =SUMIF(E:E,"szara biurowa",B:B) -> 0
H12: Nie sprzątamy | I12: =SUMIF(E:E,"nie sprzątamy",B:B) -> 0
H13: Razem: | I13: =SUM(I8:I12) -> 117

Sheet Rehabilitacja
A1: Nr pomieszczenia | B1: Powierzchnia | C1: Nazwa Pomieszczenia | D1: Oddział | E1: Strefa | F1: Rodzaj powierzchni podłogi
A2: 0.1 | B2: 7.3 | C2: Korytarz | D2: Rehabilitacja | E2: Biała | F2: PCV
A3: 0.2 | B3: 6.2 | C3: Szatnia damska | D3: Rehabilitacja | E3: Biała | F3: PCV
A4: 0.3 | B4: 2.72 | C4: Szatnia męska | D4: Rehabilitacja | E4: Biała | F4: PCV
A5: 0.4 | B5: 17.02 | C5: Gabinet lekarski | D5: Rehabilitacja | E5: Biała | F5: PCV
A6: 0.5 | B6: 16.66 | C6: Gabinet ćwiczeń fizycznych | D6: Rehabilitacja | E6: Biała | F6: PCV
A7: 0.6 | B7: 17.96 | C7: Gabinet ćwiczeń fizycznych | D7: Rehabilitacja | E7: Biała | F7: PCV
A8: 0.7 | B8: 2.44 | C8: Przedsionek | D8: Rehabilitacja | E8: Biała | F8: PCV
A9: 0.8 | B9: 2.94 | C9: WC | D9: Rehabilitacja | E9: Biała | F9: Płytki ceramiczne
A10: 0.9 | B10: 8.55 | C10: WC | D10: Rehabilitacja | E10: Biała | F10: Płytki ceramiczne
A11: 0.10 | B11: 2.54 | C11: Przedsionek | D11: Rehabilitacja | E11: Biała | F11: PCV
A12: 0.11 | B12: 2.85 | C12: WS | D12: Rehabilitacja | E12: Biała | F12: Płytki ceramiczne
A13: 0.12 | B13: 8.54 | C13: WS | D13: Rehabilitacja | E13: Biała | F13: Płytki ceramiczne
... A22: 0.22 | B22: 46.42 | C22: Korytarz | D22: Rehabilitacja | E22: Biała | F22: PCV
A23: Razem: | B23: =SUM(B2:B22) -> 263.14
H24: Strefa | I24: Powierzchnia
H25: Biała | I25: =SUMIF(E:E,"Biała*",B:B) -> 263.14
H26: Zielona | I26: =SUMIF(E:E,"Zielona*",B:B) -> 0
H27: Szara | I27: =SUMIF(E:E,"szara",B:B) -> 0
H28: Szara biurowa | I28: =SUMIF(E:E,"szara biurowa",B:B) -> 0
H29: Nie sprzątamy | I29: =SUMIF(E:E,"nie sprzątamy",B:B) -> 0
H30: Razem: | I30: =SUM(I25:I29) -> 263.14

Sheet Hotel 
A1: Nr pomieszczenia | B1: Powierzchnia | C1: Nazwa Pomieszczenia | D1: Oddział | E1: Strefa | F1: Rodzaj powierzchni podłogi
A2: 0.140 | B2: 11.18 | C2: Gabinet | D2: Medycyna pracy | E2: Biała | F2: PCV
A3: 0.140a | B3: 10.4 | C3: Korytarz | D3: Medycyna pracy | E3: Biała | F3: PCV
A4: 0.140b | B4: 4.1 | C4: WC | D4: Medycyna pracy | E4: Biała | F4: PCV
A5: 0.140c | B5: 8.22 | C5: Rejestracja | D5: Medycyna pracy | E5: Biała | F5: PCV
A6: 0.110 | B6: 16.5 | C6: Pokój Lokatorski | D6: Hotel | E6: Nie sprzątamy
A7: 0.113 | B7: 19.4 | C7: Pokój Lokatorski | D7: Hotel | E7: Nie sprzątamy
A8: 0.115 | B8: 19.4 | C8: Pokój Lokatorski | D8: Hotel | E8: Nie sprzątamy
A9: 0.117 | B9: 19.4 | C9: Pokój Lokatorski | D9: Hotel | E9: Nie sprzątamy
A10: 0.118 | B10: 19.4 | C10: Pokój Lokatorski | D10: Hotel | E10: Nie sprzątamy
A11: 0.121 | B11: 19.4 | C11: Pokój Lokatorski | D11: Hotel | E11: Nie sprzątamy
A12: 0.122 | B12: 19.4 | C12: Pokój Lokatorski | D12: Hotel | E12: Nie sprzątamy
A13: 0.127 | B13: 19.4 | C13: Pokój Lokatorski | D13: Hotel | E13: Nie sprzątamy
A14: 0.128 | B14: 19.4 | C14: Pokój Lokatorski | D14: Hotel | E14: Nie sprzątamy
A15: 0.129 | B15: 19.36 | C15: Pokój Lokatorski | D15: Hotel | E15: Nie sprzątamy
A16: 0.130 | B16: 19.4 | C16: Pokój Lokatorski | D16: Hotel | E16: Nie sprzątamy
A17: 1.201 | B17: 18.58 | C17: Pokój Lokatorski | D17: Hotel | E17: Nie sprzątamy
A18: 1.202 | B18: 16.50 | C18: Pokój Lokatorski | D18: Hotel | E18: Nie sprzątamy
A19: 1.203 | B19: 19.4 | C19: Pokój Lokatorski | D19: Hotel | E19: Nie sprzątamy
A20: 1.204 | B20: 19.4 | C20: Pokój Lokatorski | D20: Hotel | E20: Nie sprzątamy
A21: 1.205 | B21: 19.4 | C21: Pokój Lokatorski | D21: Hotel | E21: Nie sprzątamy
A22: 1.206 | B22: 19.4 | C22: Pokój Lokatorski | D22: Hotel | E22: Nie sprzątamy
A23: 1.207 | B23: 19.4 | C23: Pokój Lokatorski | D23: Hotel | E23: Nie sprzątamy
A24: 1.208 | B24: 19.4 | C24: Pokój Lokatorski | D24: Hotel | E24: Nie sprzątamy
A25: 1.209 | B25: 19.4 | C25: Pokój Lokatorski | D25: Hotel | E25: Nie sprzątamy
A26: 1.210 | B26: 19.4 | C26: Pokój Lokatorski | D26: Hotel | E26: Nie sprzątamy
A27: 1.211 | B27: 19.4 | C27: Pokój Lokatorski | D27: Hotel | E27: Nie sprzątamy
A28: 1.212 | B28: 19.4 | C28: Pokój Lokatorski | D28: Hotel | E28: Nie sprzątamy
A29: 1.213 | B29: 19.4 | C29: Pokój Lokatorski | D29: Hotel | E29: Nie sprzątamy
A30: 1.214 | B30: 19.4 | C30: Pokój Lokatorski | D30: Hotel | E30: Nie sprzątamy
... A48: 2.201 | B48: 18.58 | C48: Pokój Lokatorski | D48: Hotel | E48: Nie sprzątamy
A49: 2.202 | B49: 16.50 | C49: Pokój Lokatorski | D49: Hotel | E49: Nie sprzątamy
A50: 2.203 | B50: 19.4 | C50: Pokój Lokatorski | D50: Hotel | E50: Nie sprzątamy
A51: 2.204 | B51: 19.4 | C51: Pokój Lokatorski | D51: Hotel | E51: Nie sprzątamy
A52: 2.205 | B52: 19.4 | C52: Pokój Lokatorski | D52: Hotel | E52: Nie sprzątamy
A53: 2.206 | B53: 19.4 | C53: Pokój Lokatorski | D53: Hotel | E53: Nie sprzątamy
A54: 2.207 | B54: 19.4 | C54: Pokój Lokatorski | D54: Hotel | E54: Nie sprzątamy
A55: 2.208 | B55: 19.4 | C55: Pokój Lokatorski | D55: Hotel | E55: Nie sprzątamy
A56: 2.209 | B56: 19.4 | C56: Pokój Lokatorski | D56: Hotel | E56: Nie sprzątamy
A57: 2.210 | B57: 19.4 | C57: Pokój Lokatorski | D57: Hotel | E57: Nie sprzątamy
...

Sheet Pozostałe
A1: Nr pomieszczenia | B1: Powierzchnia | C1: Nazwa Pomieszczenia | D1: Oddział | E1: Strefa | F1: Rodzaj powierzchni podłogi
A2: 0 | B2: 354.49 | C2: Korytarz, tunel pod Bud. Głównym od Sortowni do Kuchni | D2: Wspólna | E2: Szara | F2: Lastriko/Płytki ceramiczne
A3: 0 | B3: 460 | C3: Korytarz - tunel od Kuchni do Hotelu Pielęgniarek | D3: Wspólna | E3: Szara | F3: Lastriko
A4: 0 | B4: 318 | C4: Świetlik nad „ Parkietem” BKS | D4: Wspólna | E4: Szara | F4: Szyba
A5: 0 | B5: 21 | C5: Daszek nad salą fizjoterapii BKS | D5: Oddział Neurologii i Udarów | E5: Szara | F5: Kasetony
A6: 0 | B6: 133.25 | C6: Elewacja zewnętrzna blaszana -Wejcie główne Budydynku głównego | E6: Szara | F6: Blacha
A7: 0 | B7: 257.88 | C7: Sciany z przeszkleniami BKS | D7: Wspólna | E7: Szara | F7: Szyba
A8: Razem: | B8: =SUM(B2:B7) -> 1544.62
H9: Strefa | I9: Powierzchnia
H10: Biała | I10: =SUMIF(E:E,"Biała*",B:B) -> 0
H11: Zielona | I11: =SUMIF(E:E,"Zielona*",B:B) -> 0
H12: Szara | I12: =SUMIF(E:E,"szara",B:B) -> 1544.62
H13: Szara biurowa | I13: =SUMIF(E:E,"szara biurowa",B:B) -> 0
H14: Nie sprzątamy | I14: =SUMIF(E:E,"nie sprzątamy",B:B) -> 0
H15: Razem: | I15: =SUM(I10:I14) -> 1544.62
